BEGIN:VCALENDAR
VERSION:2.0
PRODID:-//ChamberMaster//Event Calendar 2.0//EN
METHOD:PUBLISH
X-PUBLISHED-TTL:P3D
REFRESH-INTERVAL:P3D
CALSCALE:GREGORIAN
BEGIN:VEVENT
DTSTART;VALUE=DATE:20190323
DTEND;VALUE=DATE:20190325
TRANSP:TRANSPARENT
X-MICROSOFT-CDO-ALLDAYEVENT:TRUE
SUMMARY:13th Anniversary of California Artisan Cheese Festival in Sonoma Wine Country
DESCRIPTION:Two days of cheese\, cheese and MORE cheese awaits. Take an artisan tour\; learn from our experts at Saturday seminars\; indulge at Cheese\, Bites & Booze! with cheesy bites from our mongers and chefs plus wine\, beer\, cider and spirits on Saturday Night. On Sunday experience the cheesy Bubbles Brunch and explore the Artisan Cheese Tasting & Marketplace where you can taste and buy cheeses and artisan products from over 100 producers\, including two dozen artisan cheesemakers\; sample world-class wines\, craft brews\, spirits and ciders...and much more. Preview the fun of the Festival by dining out during California Cheese Week (March 16- 24)\, where restaurants and businesses feature artisan cheese dishes on their menus. What could be better than celebrity chefs\, world-class cheese\, wine\, beer\, cider\, spirits and more all in one fun-filled weekend!
X-ALT-DESC;FMTTYPE=text/html:Two days of cheese\, cheese and MORE cheese awaits. Take an artisan tour\; learn from our experts at Saturday seminars\; indulge at Cheese\, Bites &amp\; Booze! with cheesy bites from our mongers and chefs plus wine\, beer\, cider and spirits on Saturday Night. On Sunday experience the cheesy Bubbles Brunch and explore the Artisan Cheese Tasting &amp\; Marketplace where you can taste and buy cheeses and artisan products from over 100 producers\, including two dozen artisan cheesemakers\; sample world-class wines\, craft brews\, spirits and ciders...and much more. Preview the fun of the Festival by dining out during California Cheese Week (March 16- 24)\, where restaurants and businesses feature artisan cheese dishes on their menus. What could be better than celebrity chefs\, world-class cheese\, wine\, beer\, cider\, spirits and more all in one fun-filled weekend!
LOCATION:Sonoma County Fairgrounds and Event Center 1350 Bennett Valley Road\, Santa Rosa\, CA 95404
UID:e.1308.12927
SEQUENCE:3
DTSTAMP:20260419T194536Z
URL:https://business.petalumachamber.biz/events/details/13th-anniversary-of-california-artisan-cheese-festival-in-sonoma-wine-country-12927
END:VEVENT

END:VCALENDAR
