BEGIN:VCALENDAR
VERSION:2.0
PRODID:-//ChamberMaster//Event Calendar 2.0//EN
METHOD:PUBLISH
X-PUBLISHED-TTL:P3D
REFRESH-INTERVAL:P3D
CALSCALE:GREGORIAN
BEGIN:VEVENT
DTSTART:20190714T180000Z
DTEND:20190715T000000Z
X-MICROSOFT-CDO-ALLDAYEVENT:FALSE
SUMMARY:18th Annual Art & Garden Festival
DESCRIPTION:Fine local crafters\, artisans\, gardeners\, a chalk art competition\, live music on two stages and an array of local wineries\, breweries\, restaurants & fine food purveyors will offer tastings. This event is free to attend\, with Tasting Packages available to partake in all the great wine\, craft beer\, cocktails and food tasting. Not the typical street fair\, vendors are handpicked quality vendors with creative home and garden d cor\, jewelry\, arts and more. With 145 booths of unusual\, unique\, handmade items this event has something for everyone's taste and budget. Experts will be on hand from The Petaluma Garden Club and Sonoma County Master Gardeners to answer gardening questions. Figure out how to grow vegetables in tricky Petaluma adobe soil and what makes a garden organic.
X-ALT-DESC;FMTTYPE=text/html:Fine local crafters\, artisans\, gardeners\, a chalk art competition\, live music on two stages and an array of local wineries\, breweries\, restaurants &amp\; fine food purveyors will offer tastings. This event is free to attend\, with Tasting Packages available to partake in all the great wine\, craft beer\, cocktails and food tasting. Not the typical street fair\, vendors are handpicked quality vendors with creative home and garden d&eacute\;cor\, jewelry\, arts and more. With 145 booths of unusual\, unique\, handmade items this event has something for everyone&rsquo\;s taste and budget. Experts will be on hand from The Petaluma Garden Club and Sonoma County Master Gardeners to answer gardening questions. Figure out how to grow vegetables in tricky Petaluma adobe soil and what makes a garden organic.
LOCATION:Downtown Petaluma - Kentucky & Fourth Streets
UID:e.1308.13616
SEQUENCE:3
DTSTAMP:20260420T023758Z
URL:https://business.petalumachamber.biz/events/details/18th-annual-art-garden-festival-13616
END:VEVENT

END:VCALENDAR
