BEGIN:VCALENDAR
VERSION:2.0
PRODID:-//ChamberMaster//Event Calendar 2.0//EN
METHOD:PUBLISH
X-PUBLISHED-TTL:P3D
REFRESH-INTERVAL:P3D
CALSCALE:GREGORIAN
BEGIN:VEVENT
DTSTART:20190714T180000Z
DTEND:20190715T000000Z
X-MICROSOFT-CDO-ALLDAYEVENT:FALSE
SUMMARY:18th Annual Petaluma Art & Garden Festival
DESCRIPTION:Fine local crafters\, artisans\, gardeners\, a chalk art competition sponsored by the Petaluma Arts Center\, live music on two stages and an array of local wineries\, breweries\, restaurants & fine food purveyors will offer tastings.\n\nBands including headliner - The Space Orchestra and local reggae group - Amore.\n\nThis event is free to attend\, with Tasting Packages available to partake in all the great wine\, craft beer\, cocktails and food tasting.\n\nNot the typical street fair\, vendors are handpicked quality vendors with creative home and garden d cor\, jewelry\, arts and more. With 145 booths of unusual\, unique\, handmade items this event has something for everyone's taste and budget.\n\nExperts will be on hand from The Petaluma Garden Club and Sonoma County Master Gardeners to answer gardening questions. Figure out how to grow vegetables in tricky Petaluma adobe soil and what makes a garden organic.
X-ALT-DESC;FMTTYPE=text/html:<span style="font-family:times new roman\,serif"><span style="font-size:12.0pt">Fine local crafters\, artisans\, gardeners\, a chalk art competition sponsored by the Petaluma Arts Center\, live music on two stages and an array of local wineries\, breweries\, restaurants &amp\; fine food purveyors will offer tastings.<br />\n<strong>Bands including headliner - The Space Orchestra and local reggae group - Amore.</strong></span></span><br />\n<span style="font-family:times new roman\,serif"><span style="font-size:12.0pt">This event is free to attend\, with Tasting Packages available to partake in all the great wine\, craft beer\, cocktails and food tasting.<br />\nNot the typical street fair\, vendors are <strong><u>handpicked quality vendors</u></strong> with creative home and garden d&eacute\;cor\, jewelry\, arts and more. With 145 booths of unusual\, unique\, handmade items this event has something for everyone&rsquo\;s taste and budget.<br />\nExperts will be on hand from </span></span><a href="http://californiagardenclubs.com/content/petaluma-garden-club" target="_blank"><span style="color:blue"><span style="font-family:times new roman\,serif"><span style="font-size:12.0pt">The Petaluma Garden Club</span></span></span></a><span style="font-family:times new roman\,serif"><span style="font-size:12.0pt"> and </span></span><a href="http://sonomamg.ucanr.edu/" target="_blank"><span style="color:blue"><span style="font-family:times new roman\,serif"><span style="font-size:12.0pt">Sonoma County Master Gardeners </span></span></span></a><span style="font-family:times new roman\,serif"><span style="font-size:12.0pt">to answer gardening questions. Figure out how to grow vegetables in tricky Petaluma adobe soil and what makes a garden organic. &nbsp\; </span></span><br />\n&nbsp\;
LOCATION:4th & Kentucky Streets\, B Street\, A Street Parking Lot in downtown Petaluma
UID:e.1308.13752
SEQUENCE:3
DTSTAMP:20260420T023758Z
URL:https://business.petalumachamber.biz/events/details/18th-annual-petaluma-art-garden-festival-13752
END:VEVENT

END:VCALENDAR
