BEGIN:VCALENDAR
VERSION:2.0
PRODID:-//ChamberMaster//Event Calendar 2.0//EN
METHOD:PUBLISH
X-PUBLISHED-TTL:P3D
REFRESH-INTERVAL:P3D
CALSCALE:GREGORIAN
BEGIN:VEVENT
DTSTART:20181116T000000Z
DTEND:20181116T040000Z
X-MICROSOFT-CDO-ALLDAYEVENT:FALSE
SUMMARY:2018 NOU! RELEASE PARTY
DESCRIPTION:We will be putting our 2018 Pinot Noir Nouveau into bottle next Monday and are excited to share it with you all on Beaujolais Nouveau Day! This special offering is literally fermenting as you read this\, and we invite you to come enjoy the first taste of the 2018 vintage. The Nouveau will be flowing from 4:00-8:00 on Thursday November 15th in the tasting room. We will have some cheese and charcuterie to accompany the wine. The event is free to attend. No reservations necessary!
X-ALT-DESC;FMTTYPE=text/html:<span style="color:rgb(0\, 0\, 0)\; font-family:cambria\,georgia\,times new roman\,serif\; font-size:16px">We will be putting our 2018 Pinot Noir Nouveau into bottle next Monday and are excited to share it with you all on Beaujolais Nouveau Day! This special offering is literally fermenting as you read this\, and we invite you to come enjoy the first taste of the 2018 vintage. The Nouveau will be flowing from 4:00-8:00 on Thursday November 15th in the tasting room. We will have some cheese and charcuterie to accompany the wine. The event is free to attend. No reservations necessary!</span>
LOCATION:Karah Estate Vineyard 1010 West Railroad Ave Cotati CA 94931
UID:e.1308.12838
SEQUENCE:3
DTSTAMP:20260419T130135Z
URL:https://business.petalumachamber.biz/events/details/2018-nou-release-party-12838
END:VEVENT

END:VCALENDAR
