BEGIN:VCALENDAR
VERSION:2.0
PRODID:-//ChamberMaster//Event Calendar 2.0//EN
METHOD:PUBLISH
X-PUBLISHED-TTL:P3D
REFRESH-INTERVAL:P3D
CALSCALE:GREGORIAN
BEGIN:VEVENT
DTSTART:20191027T000000Z
DTEND:20191118T010000Z
X-MICROSOFT-CDO-ALLDAYEVENT:FALSE
SUMMARY:2019 Emerging Artist Exhibition
DESCRIPTION:The Emerging Artist Exhibition is an annual juried show that showcases the talent\, skill and creativity of young emerging artists in Northern California. The show features work by artists ages 16-30. October 26   November 17 Opening reception: Saturday\, October 26\, 2019 at 5 PM   7 PM The opening reception is free & open to the public. Light refreshments will be provided. Wine will also be available. The exhibit is fully sponsored by the Merede & Barbara Graham Memorial Fund from the Namaste Foundation.
X-ALT-DESC;FMTTYPE=text/html:The Emerging Artist Exhibition is an annual juried show that showcases the talent\, skill and creativity of young emerging artists in Northern California. The show features work by artists ages 16-30. October 26 &ndash\; November 17 Opening reception: Saturday\, October 26\, 2019 at 5 PM &ndash\; 7 PM The opening reception is free &amp\; open to the public. Light refreshments will be provided. Wine will also be available. The exhibit is fully sponsored by the Merede &amp\; Barbara Graham Memorial Fund from the Namaste Foundation.
LOCATION:130 Plaza St. Healdsburg
UID:e.1308.13941
SEQUENCE:3
DTSTAMP:20260420T093814Z
URL:https://business.petalumachamber.biz/events/details/2019-emerging-artist-exhibition-13941
END:VEVENT

END:VCALENDAR
