BEGIN:VCALENDAR
VERSION:2.0
PRODID:-//ChamberMaster//Event Calendar 2.0//EN
METHOD:PUBLISH
X-PUBLISHED-TTL:P3D
REFRESH-INTERVAL:P3D
CALSCALE:GREGORIAN
BEGIN:VEVENT
DTSTART:20190503T010000Z
DTEND:20190503T050000Z
X-MICROSOFT-CDO-ALLDAYEVENT:FALSE
SUMMARY:2019 Healdsburg Jazz Gala “All That Jazz”
DESCRIPTION:Cocktail reception and elegant dinner prepared by Mayacama Chef\, Scott Pikey. Live music by the Susan Sutton Trio and Student Musicians. Cocktail Attire. Proceeds benefit Healdsburg Jazz. General Tickets include cocktail reception\, dinner and all that jazz. The VIP Experience includes a private reception and premium dinner seating.
X-ALT-DESC;FMTTYPE=text/html:Cocktail reception and elegant dinner prepared by Mayacama Chef\, Scott Pikey. Live music by the Susan Sutton Trio and Student Musicians. Cocktail Attire. Proceeds benefit Healdsburg Jazz. General Tickets include cocktail reception\, dinner and all that jazz. The VIP Experience includes a private reception and premium dinner seating.
LOCATION:Mayacama Golf Club\,1240 Mayacama Club Drive\, Santa Rosa
UID:e.1308.12966
SEQUENCE:3
DTSTAMP:20260419T230109Z
URL:https://business.petalumachamber.biz/events/details/2019-healdsburg-jazz-gala-all-that-jazz-05-02-2019-12966
END:VEVENT

END:VCALENDAR
