BEGIN:VCALENDAR
VERSION:2.0
PRODID:-//ChamberMaster//Event Calendar 2.0//EN
METHOD:PUBLISH
X-PUBLISHED-TTL:P3D
REFRESH-INTERVAL:P3D
CALSCALE:GREGORIAN
BEGIN:VEVENT
DTSTART:20220309T160000Z
DTEND:20220309T190000Z
X-MICROSOFT-CDO-ALLDAYEVENT:FALSE
SUMMARY:2022 NBBJ Economic Outlook Summit In partnership with Sonoma State University
DESCRIPTION:The North Bay's original and most comprehensive economic forecast. Partnered with Sonoma State University\, this annual conference will provide the premier economic outlook for the North Bay\, including regional\, statewide and international analysis. Robert Eyler\, Ph.D. Eyler is a professor at Sonoma State University and director of SSU's Center for Regional Economic Analysis. He will deliver his annual North Bay forecast. More speakers to be announced... Continental breakfast included. This event is a Hybrid Event\, we have both in-person and livestream tickets available.
X-ALT-DESC;FMTTYPE=text/html:The North Bay&#39\;s original and most comprehensive economic forecast. Partnered with Sonoma State University\, this annual conference will provide the premier economic outlook for the North Bay\, including regional\, statewide and international analysis. Robert Eyler\, Ph.D. Eyler is a professor at Sonoma State University and director of SSU&#39\;s Center for Regional Economic Analysis. He will deliver his annual North Bay forecast. More speakers to be announced... Continental breakfast included. This event is a Hybrid Event\, we have both in-person and livestream tickets available.
LOCATION:Sonoma State University Student Center\, 3rd Floor Ballroom 1801 E Cotati Ave Rohnert Park\, 94928
UID:e.1308.16378
SEQUENCE:3
DTSTAMP:20260422T082931Z
URL:https://business.petalumachamber.biz/events/details/2022-nbbj-economic-outlook-summit-in-partnership-with-sonoma-state-university-16378
END:VEVENT

END:VCALENDAR
