BEGIN:VCALENDAR
VERSION:2.0
PRODID:-//ChamberMaster//Event Calendar 2.0//EN
METHOD:PUBLISH
X-PUBLISHED-TTL:P3D
REFRESH-INTERVAL:P3D
CALSCALE:GREGORIAN
BEGIN:VEVENT
DTSTART:20190720T160000Z
DTEND:20190721T220000Z
X-MICROSOFT-CDO-ALLDAYEVENT:FALSE
SUMMARY:20th Annual Civil War Days
DESCRIPTION:Step back in time to 1863 and enjoy a fun\, family-oriented experience in the charming town of Duncans Mills. This annual\, two-day living history experience is one of the largest Civil War reenactments west of the Mississippi and the largest in Northern California. The American Civil War is brought to life by hundreds of dedicated reenactors portraying Union and Confederate soldiers\, horse-drawn artillery\, mounted cavalry\, merchants\, musicians\, and civilians. Between battles\, visit the encampments and see Civil War-era equipment. Interact with these "living historians" learn what they believed in and why they risked their lives for these beliefs. It is an understanding you cannot get from reading a book or watching a DVD! A thrilling educational experience that will delight people of all ages. Twice-daily battles: 1:00 pm. & 4:00 pm on Saturday\, and 11:00 am & 2:00 pm on Sunday new each year!. Great event video at: https://youtu.be/2TAbs_fukAU
X-ALT-DESC;FMTTYPE=text/html:<span style="color:black\;"><span style="font-family:times new roman\,serif\;"><span style="font-size:10.5pt\;">Step back in time to 1863 and enjoy a fun\, family-oriented experience in the charming town of Duncans Mills. This annual\, two-day living history experience is one of the largest Civil War reenactments west of the Mississippi and the largest in Northern California. The American Civil War is brought to life by hundreds of dedicated reenactors portraying Union and Confederate soldiers\, horse-drawn artillery\, mounted cavalry\, merchants\, musicians\, and civilians. Between battles\, visit the encampments and see Civil War-era equipment. Interact with these &ldquo\;living historians&rdquo\;&mdash\;learn what they believed in and why they risked their lives for these beliefs. It is an understanding you cannot get from reading a book or watching a DVD! A thrilling educational experience that will delight people of all ages. Twice-daily battles: 1:00 pm. &amp\; 4:00 pm on Saturday\, and 11:00 am &amp\; 2:00 pm on Sunday&mdash\;new each year!. Great event video at:&nbsp\;<a href="https://youtu.be/2TAbs_fukAU">https://youtu.be/2TAbs_fukAU</a></span></span></span><br />\n&nbsp\;
LOCATION:Freezeout Canyon\, 1/4 mile down Freezeout Road\, turning right off Moscow Road\, Duncans Mills (Sonoma County) 95430
UID:e.1308.13767
SEQUENCE:3
DTSTAMP:20260420T023247Z
URL:https://business.petalumachamber.biz/events/details/20th-annual-civil-war-days-13767
END:VEVENT

END:VCALENDAR
