BEGIN:VCALENDAR
VERSION:2.0
PRODID:-//ChamberMaster//Event Calendar 2.0//EN
METHOD:PUBLISH
X-PUBLISHED-TTL:P3D
REFRESH-INTERVAL:P3D
CALSCALE:GREGORIAN
BEGIN:VEVENT
DTSTART;VALUE=DATE:20190823
DTEND;VALUE=DATE:20190824
TRANSP:TRANSPARENT
X-MICROSOFT-CDO-ALLDAYEVENT:TRUE
SUMMARY:29th Annual Hansel Auto Group Golf Challenge
DESCRIPTION:JOIN US ON FRIDAY\, AUGUST 23RD AT ROOSTER RUN GOLF CLUB IN PETALUMA FOR FUN ON THE GREEN AS WE RAISE MONEY FOR CLUB MEMBERS IN PETALUMA!
X-ALT-DESC;FMTTYPE=text/html:JOIN US ON FRIDAY\, AUGUST 23RD AT ROOSTER RUN GOLF CLUB IN PETALUMA FOR FUN ON THE GREEN AS WE RAISE MONEY FOR CLUB MEMBERS IN PETALUMA!
LOCATION:Rooster Run Golf Club\, 2301 E. Washington St. Petaluma\, CA 94952
UID:e.1308.13611
SEQUENCE:3
DTSTAMP:20260420T041740Z
URL:https://business.petalumachamber.biz/events/details/29th-annual-hansel-auto-group-golf-challenge-13611
END:VEVENT

END:VCALENDAR
