BEGIN:VCALENDAR
VERSION:2.0
PRODID:-//ChamberMaster//Event Calendar 2.0//EN
METHOD:PUBLISH
X-PUBLISHED-TTL:P3D
REFRESH-INTERVAL:P3D
CALSCALE:GREGORIAN
BEGIN:VEVENT
DTSTART:20190929T150000Z
DTEND:20190929T230000Z
X-MICROSOFT-CDO-ALLDAYEVENT:FALSE
SUMMARY:33rd Annual Petaluma Fall Antique Faire
DESCRIPTION:Downtown Petaluma's historic charm\, including its stern Victorian iron-fronts and grand neo-classical buildings\, make it the perfect backdrop for the Petaluma Fall Antique Faire. Spanning Fourth & Kentucky Streets between B and Washington Streets\, this day long celebration of all things antique will take place on Sunday\, September 29th\, from 8am to 4pm. Now in its 33rd year\, the antique faire is a bi-annual to do that marks the beginning of fall and also follows the Butter & Egg Days in the Spring. Vintage and antique lovers of all persuasions are drawn to the eclectic variety of items available from over 200 dealers from across the US and beyond. You'll find antique wares that range from flat out oddities to ephemera\, jewelry\, kitchen wares\, linens\, furniture\, books\, home d cor\, clothing\, accessories\, rugs and even fossils! Whether you're looking to make a grand investment or up-cycle some shabby chic decor\, there is something for everyone's budget. Dubbed "The Bay Area's Premier Antique Center"\, the Historic Downtown offers a number of antique stores in walking distance of the Faire\, as well as mom & pop retail shopping\, cozy cafes\, award winning dining\, live music and entertainment. We invite you to come and experience the charm of downtown and peruse antiques in our beautiful waterfront setting. Come between 7:00-11:30am and enjoy the Petaluma Mason's superb pancake breakfast in their historic iron-front building's grand ballroom. The Petaluma Downtown Association is a not for profit organization dedicated to the betterment of the Petaluma Historic Central Area. Their mission is to promote and enhance downtown's position as the city's retail and commercial center. The PDA accomplishes this through events that bring 50\,000 plus people to downtown yearly and through marketing and promotion of the Downtown. All proceeds benefit the Petaluma Downtown Association for future shows. For more information\, please visit online at www.PetalumaDowntown.com\, find Petaluma Downtown Association on Facebook\, or give them a call at (707) 762-9348.
X-ALT-DESC;FMTTYPE=text/html:Downtown Petaluma&rsquo\;s historic charm\, including its stern Victorian iron-fronts and grand neo-classical buildings\, make it the perfect backdrop for the Petaluma Fall Antique Faire. Spanning Fourth &amp\; Kentucky Streets between B and Washington Streets\, this day long celebration of all things antique will take place on Sunday\, September 29th\, from 8am to 4pm. Now in its 33rd year\, the antique faire is a bi-annual to do that marks the beginning of fall and also follows the Butter &amp\; Egg Days in the Spring. Vintage and antique lovers of all persuasions are drawn to the eclectic variety of items available from over 200 dealers from across the US and beyond. You&rsquo\;ll find antique wares that range from flat out oddities to ephemera\, jewelry\, kitchen wares\, linens\, furniture\, books\, home d&eacute\;cor\, clothing\, accessories\, rugs and even fossils! Whether you&rsquo\;re looking to make a grand investment or up-cycle some shabby chic decor\, there is something for everyone&rsquo\;s budget. Dubbed &ldquo\;The Bay Area&rsquo\;s Premier Antique Center&rdquo\;\, the Historic Downtown offers a number of antique stores in walking distance of the Faire\, as well as mom &amp\; pop retail shopping\, cozy cafes\, award winning dining\, live music and entertainment. We invite you to come and experience the charm of downtown and peruse antiques in our beautiful waterfront setting. Come between 7:00-11:30am and enjoy the Petaluma Mason&rsquo\;s superb pancake breakfast in their historic iron-front building&rsquo\;s grand ballroom. The Petaluma Downtown Association is a not for profit organization dedicated to the betterment of the Petaluma Historic Central Area. Their mission is to promote and enhance downtown&rsquo\;s position as the city&rsquo\;s retail and commercial center. The PDA accomplishes this through events that bring 50\,000 plus people to downtown yearly and through marketing and promotion of the Downtown. All proceeds benefit the Petaluma Downtown Association for future shows. For more information\, please visit online at www.PetalumaDowntown.com\, find Petaluma Downtown Association on Facebook\, or give them a call at (707) 762-9348.
LOCATION:Historic Downtown Petaluma
UID:e.1308.13785
SEQUENCE:3
DTSTAMP:20260420T060817Z
URL:https://business.petalumachamber.biz/events/details/33rd-annual-petaluma-fall-antique-faire-13785
END:VEVENT

END:VCALENDAR
