BEGIN:VCALENDAR
VERSION:2.0
PRODID:-//ChamberMaster//Event Calendar 2.0//EN
METHOD:PUBLISH
X-PUBLISHED-TTL:P3D
REFRESH-INTERVAL:P3D
CALSCALE:GREGORIAN
BEGIN:VEVENT
DTSTART:20191121T030000Z
DTEND:20191121T050000Z
X-MICROSOFT-CDO-ALLDAYEVENT:FALSE
SUMMARY:$5 suggested donation at the door
DESCRIPTION:"Petaluma Firsters" unite! Join your friends on Wednesday\, Nov. 20\, 2019 for an evening dialogue presented by the Petalumans of Yesteryear\, in a program about Fred Wiseman. Bicycle builder\, race-car driver\, adventurer and early pilot. Petaluma can't claim Fred as its own\, but he did make the first airmail delivery! Learn Fred's story\, complete with "Magic Lantern" show. There will be time for questions and refreshments available at intermission. www.PetalumaMuseum.com
X-ALT-DESC;FMTTYPE=text/html:&ldquo\;Petaluma Firsters&rdquo\; unite! Join your friends on Wednesday\, Nov. 20\, 2019 for an evening dialogue presented by the Petalumans of Yesteryear\, in a program about Fred Wiseman. Bicycle builder\, race-car driver\, adventurer and early pilot. Petaluma can&rsquo\;t claim Fred as its own\, but he did make the first airmail delivery! Learn Fred&rsquo\;s story\, complete with &ldquo\;Magic Lantern&rdquo\; show. There will be time for questions and refreshments available at intermission. www.PetalumaMuseum.com
LOCATION:Petaluma Historical Library & Museum\, 20 Fourth St.\, Petaluma\, CA 94952
UID:e.1308.13955
SEQUENCE:3
DTSTAMP:20260420T093922Z
URL:https://business.petalumachamber.biz/events/details/5-suggested-donation-at-the-door-13955
END:VEVENT

END:VCALENDAR
