BEGIN:VCALENDAR
VERSION:2.0
PRODID:-//ChamberMaster//Event Calendar 2.0//EN
METHOD:PUBLISH
X-PUBLISHED-TTL:P3D
REFRESH-INTERVAL:P3D
CALSCALE:GREGORIAN
BEGIN:VEVENT
DTSTART:20190129T193000Z
DTEND:20190129T210000Z
X-MICROSOFT-CDO-ALLDAYEVENT:FALSE
SUMMARY:5th Tuesday Lunch Mob
DESCRIPTION:PACC Ambassadors are proud to introduce the next "5th Tuesday Lunch Mob" event.  These will be casual\, no host luncheons at some of our restaurant members\, and will be a great opportunity to meet and network with fellow members. Please be sure to join\, and invite fellow members! Come for lunch\, stay for the raffle!\n\n\n\nNote - this is a No Host\, order off the menu event. There will be no program or agenda. Get to know your fellow PACC members in a casual setting. if you don't have enough time... call in an order "to-go!"
X-ALT-DESC;FMTTYPE=text/html:<span style="font-family: &quot\;Comic Sans MS&quot\;\, Verdana\, Helvetica\, sans-serif\;">P</span><span style="font-family: &quot\;Comic Sans MS&quot\;\, Verdana\, Helvetica\, sans-serif\;">ACC</span><span style="font-family: &quot\;Comic Sans MS&quot\;\, Verdana\, Helvetica\, sans-serif\;">&nbsp\;Ambassadors are proud to introduce the next &quot\;5th Tuesday Lunch Mob&quot\; event.&nbsp\; These will be casual\, no host luncheons at some of our restaurant members\, and will be a great opportunity to meet and network with fellow members. Please be sure to join\, and invite fellow members! Come for lunch\, stay for the raffle!</span><br />\n<br />\nNote - this is a No Host\, order off the menu event. There will be no program or agenda. Get to know your fellow PACC members in a casual setting. if you don&#39\;t have enough time... call in an order &quot\;to-go!&quot\;
LOCATION:Aqus Cafe 189 H Street
UID:e.1308.12837
SEQUENCE:3
DTSTAMP:20260419T161145Z
URL:https://business.petalumachamber.biz/events/details/5th-tuesday-lunch-mob-12837
END:VEVENT

END:VCALENDAR
