BEGIN:VCALENDAR
VERSION:2.0
PRODID:-//ChamberMaster//Event Calendar 2.0//EN
METHOD:PUBLISH
X-PUBLISHED-TTL:P3D
REFRESH-INTERVAL:P3D
CALSCALE:GREGORIAN
BEGIN:VEVENT
DTSTART:20200331T183000Z
DTEND:20200331T200000Z
X-MICROSOFT-CDO-ALLDAYEVENT:FALSE
SUMMARY:5th Tuesday Lunch Mob
DESCRIPTION:POSTPONED- McNears is temporarily closed.\n\n\n\nOur Ambassador's 5th Tuesday Lunch Mob will be a little different this time due to current health recommendations in regard to gatherings as well as current restaurant restrictions. \n\n\n\nAs we can't meet in person\, you can still enjoy some amazing food from McNear's via their Curb-Side Pickup options and still support them!\n\n\n\nYou can find their menu and contact information here: https://www.mcnears.com/?fbclid=IwAR3CDGSjCmzBhc-a8ffPo-x63SlS_BH2BCJ0fFIHEfFry1qKD2Ix3ic1f9Q\n\n\n\nPlease be sure to post pictures of your bounty on our Facebook page! https://www.facebook.com/PetalumaAreaChamberOfCommerce/\n\n\n\nThank you for your continued support of our community\, and be safe!
X-ALT-DESC;FMTTYPE=text/html:<font face="Comic Sans MS\, Verdana\, Helvetica\, sans-serif"><strong><em><span style="color:#FF0000\;"><span style="font-size:36px\;">POSTPONED- McNears is temporarily closed.</span></span></em></strong><br />\n<br />\nOur Ambassador&#39\;s 5th Tuesday Lunch Mob will be a little different this time due to current health recommendations in regard to gatherings as well as current restaurant restrictions.&nbsp\;<br />\n<br />\nAs we can&#39\;t meet in person\, you can still enjoy some amazing food from McNear&#39\;s via their Curb-Side Pickup options and still support them!<br />\n<br />\nYou can find their menu and contact information here:&nbsp\;<a href="https://www.mcnears.com/?fbclid=IwAR3CDGSjCmzBhc-a8ffPo-x63SlS_BH2BCJ0fFIHEfFry1qKD2Ix3ic1f9Q">https://www.mcnears.com/?fbclid=IwAR3CDGSjCmzBhc-a8ffPo-x63SlS_BH2BCJ0fFIHEfFry1qKD2Ix3ic1f9Q</a><br />\n<br />\nPlease be sure to post pictures of your bounty on our Facebook page!&nbsp\;</font><a href="https://www.facebook.com/PetalumaAreaChamberOfCommerce/">https://www.facebook.com/PetalumaAreaChamberOfCommerce/</a><br />\n<br />\nThank you for your continued support of our community\, and be safe!
LOCATION:McNear's Restaurant 23 Petaluma Blvd N
UID:e.1308.14057
SEQUENCE:3
DTSTAMP:20260420T161423Z
URL:https://business.petalumachamber.biz/events/details/5th-tuesday-lunch-mob-14057
END:VEVENT

END:VCALENDAR
