BEGIN:VCALENDAR
VERSION:2.0
PRODID:-//ChamberMaster//Event Calendar 2.0//EN
METHOD:PUBLISH
X-PUBLISHED-TTL:P3D
REFRESH-INTERVAL:P3D
CALSCALE:GREGORIAN
BEGIN:VEVENT
DTSTART:20190313T003000Z
DTEND:20190313T033000Z
X-MICROSOFT-CDO-ALLDAYEVENT:FALSE
SUMMARY:7th Annual Honky Tonk Benefiting Girls on the Run
DESCRIPTION:Honky Tonk benefiting Girls on the Run Sonoma County with music by Train Wreck Junction!\n\nJoin us for a night of family friendly fun including live music\, raffle\, and dinner! \n\nTickets are limited! Get yours now!\n\nDinner provided by Occidental Union Hotel and Resturant and dessert by SIFT!
X-ALT-DESC;FMTTYPE=text/html:<h3 style="text-align:center"><strong>Honky Tonk benefiting Girls on the Run Sonoma County with music by Train Wreck Junction!</strong></h3>\n\n<h5 style="text-align:center">Join us for a night of family friendly fun including live music\, raffle\, and dinner!&nbsp\;</h5>\n\n<h5 style="text-align:center">Tickets are limited! Get yours now!</h5>\n\n<div style="text-align: center\;">Dinner provided by Occidental Union Hotel and Resturant and dessert by SIFT!</div>\n
LOCATION:Lagunitas Taproom & Beer Sanctuary 1280 N McDowell Blvd Petaluma\, CA
UID:e.1308.12934
SEQUENCE:3
DTSTAMP:20260419T193626Z
URL:https://business.petalumachamber.biz/events/details/7th-annual-honky-tonk-benefiting-girls-on-the-run-12934
END:VEVENT

END:VCALENDAR
