BEGIN:VCALENDAR
VERSION:2.0
PRODID:-//ChamberMaster//Event Calendar 2.0//EN
METHOD:PUBLISH
X-PUBLISHED-TTL:P3D
REFRESH-INTERVAL:P3D
CALSCALE:GREGORIAN
BEGIN:VEVENT
DTSTART:20190221T020000Z
DTEND:20190221T050000Z
X-MICROSOFT-CDO-ALLDAYEVENT:FALSE
SUMMARY:9th ANNUAL JAZZ ON THE MENU — Dine Out to Support Music Education in the Schools
DESCRIPTION:One of the year's best mixes of wine\, food and music is happening again! It's a perfect opportunity to explore restaurants and discover a new favorite\, while supporting Healdsburg Jazz's innovative music education programs. Musicians in small jazz ensembles will be playing at different restaurants in Healdsburg and Geyserville. Reservations recommended. Then everyone is invited for dessert and more jazz music at Costeaux French Bakery &?Caf \, beginning at 7:30 p.m. Restaurants donate 25% of their food and beverage sales to Healdsburg Jazz's music education program to support our own unique way to educate our school children in the America art form of jazz and its blues roots. The non-profit Healdsburg Jazz annually sponsors three music education programs in nine local schools: Operation Jazz Band for 5th graders\, Black History Month for 3rd - 6th graders and the county-wide Student Jazz Combo Competition for high school students throughout Sonoma County.
X-ALT-DESC;FMTTYPE=text/html:One of the year&rsquo\;s best mixes of wine\, food and music is happening again! It&rsquo\;s a perfect opportunity to explore restaurants and discover a new favorite\, while supporting Healdsburg Jazz&rsquo\;s innovative music education programs. Musicians in small jazz ensembles will be playing at different restaurants in Healdsburg and Geyserville. Reservations recommended. Then everyone is invited for dessert and more jazz music at Costeaux French Bakery &amp\;?Caf&eacute\;\, beginning at 7:30 p.m. Restaurants donate 25% of their food and beverage sales to Healdsburg Jazz&rsquo\;s music education program to support our own unique way to educate our school children in the America art form of jazz and its blues roots. The non-profit Healdsburg Jazz annually sponsors three music education programs in nine local schools: Operation Jazz Band for 5th graders\, Black History Month for 3rd - 6th graders and the county-wide Student Jazz Combo Competition for high school students throughout Sonoma County.
LOCATION:Participating in Restaurants around Healdsburg & Geyserville
UID:e.1308.12903
SEQUENCE:3
DTSTAMP:20260419T180053Z
URL:https://business.petalumachamber.biz/events/details/9th-annual-jazz-on-the-menu-dine-out-to-support-music-education-in-the-schools-12903
END:VEVENT

END:VCALENDAR
