BEGIN:VCALENDAR
VERSION:2.0
PRODID:-//ChamberMaster//Event Calendar 2.0//EN
METHOD:PUBLISH
X-PUBLISHED-TTL:P3D
REFRESH-INTERVAL:P3D
CALSCALE:GREGORIAN
BEGIN:VEVENT
DTSTART:20191216T010000Z
DTEND:20191216T053000Z
X-MICROSOFT-CDO-ALLDAYEVENT:FALSE
SUMMARY:A Chanticleer Christmas
DESCRIPTION:Chanticleer welcomes the holidays with its beloved annual tradition\, A Chanticleer Christmas. A selection of longtime audience favorites\, including music from the Renaissance to joyful spirituals and traditional carols\, will be featured alongside music new to Chanticleer's festive repertoire. A Chanticleer Christmas has provided transcendent moments of peace and joy to sold out Bay Area audiences for more than 40 years. The tranquility introduced by a candlelit procession of Gregorian Chant and the celebration of the nativity through timeless music from all centuries\, is the hallmark of A Chanticleer Christmas. The program features audience favorites such as In dulce jubilo by Michael Praetorius\, Ave Maria by Franz Biebl\, A spotless rose by Herbert Howells and Gaudete by Steven Sametz. Arranged for Chanticleer in 2017\, Rosephanye's Powell's medley of Christmas spirituals will bring the program to a joyous close. Describing the Bay Area's array of holiday musical offerings\, the San Jose Mercury News praised A Chanticleer Christmas as "one of the most consistently rewarding" and "sublimely beautiful" while the San Francisco Chronicle called it "a burst of exuberant and soulful yuletide fare ranging across more than a dozen centuries." Presented by Chanticleer
X-ALT-DESC;FMTTYPE=text/html:Chanticleer welcomes the holidays with its beloved annual tradition\, A Chanticleer Christmas. A selection of longtime audience favorites\, including music from the Renaissance to joyful spirituals and traditional carols\, will be featured alongside music new to Chanticleer&#39\;s festive repertoire. A Chanticleer Christmas has provided transcendent moments of peace and joy to sold out Bay Area audiences for more than 40 years. The tranquility introduced by a candlelit procession of Gregorian Chant and the celebration of the nativity through timeless music from all centuries\, is the hallmark of A Chanticleer Christmas. The program features audience favorites such as In dulce jubilo by Michael Praetorius\, Ave Maria by Franz Biebl\, A spotless rose by Herbert Howells and Gaudete by Steven Sametz. Arranged for Chanticleer in 2017\, Rosephanye&#39\;s Powell&#39\;s medley of Christmas spirituals will bring the program to a joyous close. Describing the Bay Area&#39\;s array of holiday musical offerings\, the San Jose Mercury News praised A Chanticleer Christmas as &quot\;one of the most consistently rewarding&quot\; and &quot\;sublimely beautiful&quot\; while the San Francisco Chronicle called it &quot\;a burst of exuberant and soulful yuletide fare ranging across more than a dozen centuries.&quot\; Presented by Chanticleer
LOCATION:St. Vincent Church\, 35 Liberty Street\, Petaluma\, CA 94952
UID:e.1308.13964
SEQUENCE:3
DTSTAMP:20260420T112232Z
URL:https://business.petalumachamber.biz/events/details/a-chanticleer-christmas-12-15-2019-13964
END:VEVENT

END:VCALENDAR
