BEGIN:VCALENDAR
VERSION:2.0
PRODID:-//ChamberMaster//Event Calendar 2.0//EN
METHOD:PUBLISH
X-PUBLISHED-TTL:P3D
REFRESH-INTERVAL:P3D
CALSCALE:GREGORIAN
BEGIN:VEVENT
DTSTART:20181215T020000Z
DTEND:20181215T031500Z
X-MICROSOFT-CDO-ALLDAYEVENT:FALSE
SUMMARY:A Chanticleer Christmas
DESCRIPTION:Chanticleer presents its beloved annual holiday tradition with a transcendent offering of sacred music from the Renaissance to joyful spirituals and traditional carols in some of the Bay Area's most ornately decorated missions\, churches and cathedrals. In a longstanding Bay Area tradition spanning a remarkable 40 years\, A Chanticleer Christmas is one of the ensemble's most enduring offerings and tells the story of the nativity in music written from the 13th to 21st centuries. The program begins with candlelit Gregorian Chant and continues with a wide selection of music by Palestrina\, Sweelinck\, Biebel\, Rachmaninoff and Poulenc\; traditional English and Spanish Carols\; and the world premiere of Behold\, a Simple\, Tender Babe by choral composer Peter Bloesch. Describing the Bay Area's array of holiday musical offerings\, the San Jose Mercury News praised A Chanticleer Christmas as "one of the most consistently rewarding" and "sublimely beautiful" while also commenting that "the ensemble's phrasing was flawless\, it's dynamics crisp and polished." Presented by Chanticleer
X-ALT-DESC;FMTTYPE=text/html:Chanticleer presents its beloved annual holiday tradition with a transcendent offering of sacred music from the Renaissance to joyful spirituals and traditional carols in some of the Bay Area&#39\;s most ornately decorated missions\, churches and cathedrals. In a longstanding Bay Area tradition spanning a remarkable 40 years\, A Chanticleer Christmas is one of the ensemble&#39\;s most enduring offerings and tells the story of the nativity in music written from the 13th to 21st centuries. The program begins with candlelit Gregorian Chant and continues with a wide selection of music by Palestrina\, Sweelinck\, Biebel\, Rachmaninoff and Poulenc\; traditional English and Spanish Carols\; and the world premiere of Behold\, a Simple\, Tender Babe by choral composer Peter Bloesch. Describing the Bay Area&#39\;s array of holiday musical offerings\, the San Jose Mercury News praised A Chanticleer Christmas as &quot\;one of the most consistently rewarding&quot\; and &quot\;sublimely beautiful&quot\; while also commenting that &quot\;the ensemble&#39\;s phrasing was flawless\, it&#39\;s dynamics crisp and polished.&quot\; Presented by Chanticleer
LOCATION:St. Vincent Church\, 35 Liberty Street\, Petaluma\, CA 94952
UID:e.1308.12887
SEQUENCE:3
DTSTAMP:20260419T143532Z
URL:https://business.petalumachamber.biz/events/details/a-chanticleer-christmas-12887
END:VEVENT

END:VCALENDAR
