BEGIN:VCALENDAR
VERSION:2.0
PRODID:-//ChamberMaster//Event Calendar 2.0//EN
METHOD:PUBLISH
X-PUBLISHED-TTL:P3D
REFRESH-INTERVAL:P3D
CALSCALE:GREGORIAN
BEGIN:VEVENT
DTSTART:20181221T030000Z
DTEND:20181222T050000Z
X-MICROSOFT-CDO-ALLDAYEVENT:FALSE
SUMMARY:“A Christmas Memory” and “A Child's Christmas in Wales.”
DESCRIPTION:Back by popular demand\, Readers Theater presents "A Christmas Memory" and "A Child's Christmas in Wales". This will be a treat for the whole family. Also\, this is a fundraiser for the Petaluma Arts Center.
X-ALT-DESC;FMTTYPE=text/html:Back by popular demand\, Readers Theater presents &quot\;A Christmas Memory&quot\; and &quot\;A Child&#39\;s Christmas in Wales&quot\;. This will be a treat for the whole family. Also\, this is a fundraiser for the Petaluma Arts Center.
LOCATION:Petaluma Arts Center 230 Lakeville Street Petaluma\, CA 94952
UID:e.1308.12889
SEQUENCE:3
DTSTAMP:20260419T144022Z
URL:https://business.petalumachamber.biz/events/details/a-christmas-memory-and-a-child-s-christmas-in-wales-12889
END:VEVENT

END:VCALENDAR
