BEGIN:VCALENDAR
VERSION:2.0
PRODID:-//ChamberMaster//Event Calendar 2.0//EN
METHOD:PUBLISH
X-PUBLISHED-TTL:P3D
REFRESH-INTERVAL:P3D
CALSCALE:GREGORIAN
BEGIN:VEVENT
DTSTART:20200213T010000Z
DTEND:20200213T023000Z
X-MICROSOFT-CDO-ALLDAYEVENT:FALSE
SUMMARY:A Gaggle of Girls
DESCRIPTION:Wednesday\, February 12th 5:00 pm Shollenberger Park\, Petaluma We walk\, we talk\, we stop for moments\, we celebrate our feminine wisdom and cherish our time together. We gaggle and we walk to feel good! Walking leads us to breathe in the winter air and open our hearts. It's wonderful to simply being there. We walk rain or shine so if it's raining bring your rain boots and umbrella. The world unfurls its mysteries in the rain. Members: Free Guests: $5 Walk pace: Moderate to fast Distance: 1-2 miles Meet location emailed to you after sign up. Walks start promptly at 5:00pm\, please arrive a few minutes early. Walks are approximately one hour\, but they end when they end. Please leave your doggo friends home for this one.
X-ALT-DESC;FMTTYPE=text/html:Wednesday\, February 12th 5:00 pm Shollenberger Park\, Petaluma We walk\, we talk\, we stop for moments\, we celebrate our feminine wisdom and cherish our time together. We gaggle and we walk to feel good! Walking leads us to breathe in the winter air and open our hearts. It&rsquo\;s wonderful to simply being there. We walk rain or shine so if it&rsquo\;s raining bring your rain boots and umbrella. The world unfurls its mysteries in the rain. Members: Free Guests: $5 Walk pace: Moderate to fast Distance: 1-2 miles Meet location emailed to you after sign up. Walks start promptly at 5:00pm\, please arrive a few minutes early. Walks are approximately one hour\, but they end when they end. Please leave your doggo friends home for this one.
LOCATION:Petaluma
UID:e.1308.13988
SEQUENCE:3
DTSTAMP:20260420T145009Z
URL:https://business.petalumachamber.biz/events/details/a-gaggle-of-girls-13988
END:VEVENT

END:VCALENDAR
