BEGIN:VCALENDAR
VERSION:2.0
PRODID:-//ChamberMaster//Event Calendar 2.0//EN
METHOD:PUBLISH
X-PUBLISHED-TTL:P3D
REFRESH-INTERVAL:P3D
CALSCALE:GREGORIAN
BEGIN:VEVENT
DTSTART:20190407T030000Z
DTEND:20190407T060000Z
X-MICROSOFT-CDO-ALLDAYEVENT:FALSE
SUMMARY:A Night of Shakespeare Shorts
DESCRIPTION:A Night of Shakespeare Shorts is a celebration of Shakespeare's plays in the form of a competition hosted by the Petaluma Shakespeare Company\, Shakesprints and the Phoenix Theater. Actors and actresses from all over the Bay Area compete to win $500.00 for Best Scene of the Evening. Shakespeare savvy judges from Marin Shakespeare\, SF Shakespeare\, ACT and others will adjudicate the evening of scenes interspersed with music by the talented Chris Newton. Come and decide for yourself! Everyone who attends will get a free slice of birthday cake. It's a bit early but Shakespeare's birthday is on April 26th. We don't think he'll mind. Doors: 7:00 pm /Show 8:00 pm This event is for all ages! Petaluma Shakespeare Company is a non profit 501(c)(3) and is the only free Shakespeare in Sonoma County offering performances for all ages under the stars at The Foundry Wharf. Free Shakespeare By The River is proud to present Macbeth in 2019. www.petalumashakespeare.org. Shakesprints is about celebrating Shakespeare by printing beautiful Shakespearean illustrations on all applicable materials. We aim to help people enjoy and learn from the dramatic variety\, subtle nuances\, and breathtaking eloquence expressed across the Shakespearean Canon. www.shakesprints.com Presented by Petaluma Shakespeare Company
X-ALT-DESC;FMTTYPE=text/html:A Night of Shakespeare Shorts is a celebration of Shakespeare&#39\;s plays in the form of a competition hosted by the Petaluma Shakespeare Company\, Shakesprints and the Phoenix Theater. Actors and actresses from all over the Bay Area compete to win $500.00 for Best Scene of the Evening. Shakespeare savvy judges from Marin Shakespeare\, SF Shakespeare\, ACT and others will adjudicate the evening of scenes interspersed with music by the talented Chris Newton. Come and decide for yourself! Everyone who attends will get a free slice of birthday cake. It&#39\;s a bit early but Shakespeare&#39\;s birthday is on April 26th. We don&#39\;t think he&#39\;ll mind. Doors: 7:00 pm /Show 8:00 pm This event is for all ages! Petaluma Shakespeare Company is a non profit 501(c)(3) and is the only free Shakespeare in Sonoma County offering performances for all ages under the stars at The Foundry Wharf. Free Shakespeare By The River is proud to present Macbeth in 2019. www.petalumashakespeare.org. Shakesprints is about celebrating Shakespeare by printing beautiful Shakespearean illustrations on all applicable materials. We aim to help people enjoy and learn from the dramatic variety\, subtle nuances\, and breathtaking eloquence expressed across the Shakespearean Canon. www.shakesprints.com Presented by Petaluma Shakespeare Company
LOCATION:Phoenix Theater\, 201 Washington Street\, Petaluma\, CA 94952
UID:e.1308.12930
SEQUENCE:3
DTSTAMP:20260419T230109Z
URL:https://business.petalumachamber.biz/events/details/a-night-of-shakespeare-shorts-12930
END:VEVENT

END:VCALENDAR
