BEGIN:VCALENDAR
VERSION:2.0
PRODID:-//ChamberMaster//Event Calendar 2.0//EN
METHOD:PUBLISH
X-PUBLISHED-TTL:P3D
REFRESH-INTERVAL:P3D
CALSCALE:GREGORIAN
BEGIN:VEVENT
DTSTART:20190516T233000Z
DTEND:20190517T020000Z
X-MICROSOFT-CDO-ALLDAYEVENT:FALSE
SUMMARY:Accu-Line Business After Hours Mixer
DESCRIPTION:Join us in celebrating with Accu-Line Brake & Wheel at their 5th annual anniversary party! Live music with local Petaluma Band\, The Beguilers! car show\, snacks\, drinks and a raffle! The Kona Ice of North Marin shaved ice truck will be there! All proceeds from the raffle will benefit the Petaluma High School Autoshop program.\n\n\n\nHave a classic car to enter in the car show? Entry is free! Space is limited\, call for your reservation: 707-762-3812
X-ALT-DESC;FMTTYPE=text/html:Join us in celebrating with Accu-Line Brake &amp\; Wheel at their 5th annual anniversary party! Live music with local Petaluma Band\, The Beguilers! car show\, snacks\, drinks and a raffle! The Kona Ice of North Marin shaved ice truck will be there! All proceeds from the raffle will benefit the Petaluma High School Autoshop program.<br />\n<br />\nHave a classic car to enter in the car show? Entry is free! Space is limited\, call for your reservation: 707-762-3812
LOCATION:1051A Lakeville St
UID:e.1308.12941
SEQUENCE:3
DTSTAMP:20260419T225955Z
URL:https://business.petalumachamber.biz/events/details/accu-line-business-after-hours-mixer-12941
END:VEVENT

END:VCALENDAR
