BEGIN:VCALENDAR
VERSION:2.0
PRODID:-//ChamberMaster//Event Calendar 2.0//EN
METHOD:PUBLISH
X-PUBLISHED-TTL:P3D
REFRESH-INTERVAL:P3D
CALSCALE:GREGORIAN
BEGIN:VEVENT
DTSTART:20190903T223000Z
DTEND:20191010T000000Z
X-MICROSOFT-CDO-ALLDAYEVENT:FALSE
SUMMARY:After School Art
DESCRIPTION:Please join us for After School Art Join Healdsburg Center for the Arts for a variety of classes. Monday: Comic Strips and Graphic Novels   For ages 9-16 Tuesday: Drawing: In\, Out and About - For ages 9-15 Wednesday: Mixed Media Madness   For ages 5-8 Thursday: Meet the Modernist   For ages 7-12 Please visit our website for more information. https://healdsburgcenterforthearts.org
X-ALT-DESC;FMTTYPE=text/html:Please join us for After School Art Join Healdsburg Center for the Arts for a variety of classes. Monday: Comic Strips and Graphic Novels &ndash\; For ages 9-16 Tuesday: Drawing: In\, Out and About - For ages 9-15 Wednesday: Mixed Media Madness &ndash\; For ages 5-8 Thursday: Meet the Modernist &ndash\; For ages 7-12 Please visit our website for more information. https://healdsburgcenterforthearts.org
LOCATION:Healdsburg Community Center 1557 Healdsburg Ave
UID:e.1308.13800
SEQUENCE:3
DTSTAMP:20260420T060620Z
URL:https://business.petalumachamber.biz/events/details/after-school-art-13800
END:VEVENT

END:VCALENDAR
