BEGIN:VCALENDAR
VERSION:2.0
PRODID:-//ChamberMaster//Event Calendar 2.0//EN
METHOD:PUBLISH
X-PUBLISHED-TTL:P3D
REFRESH-INTERVAL:P3D
CALSCALE:GREGORIAN
BEGIN:VEVENT
DTSTART:20200215T210000Z
DTEND:20200216T000000Z
X-MICROSOFT-CDO-ALLDAYEVENT:FALSE
SUMMARY:Afternoon of Love Songs
DESCRIPTION:On February 15\, take in the Voigt residence's extensive sculpture and art collection as you experience the love when Pocket Opera performs songs from your favorite operas. The program for Healdsburg Center for the Arts will feature the best of the romantic operatic repertoire. Selections by Puccini (La Boheme\, La Rondine)\, Verdi (La Traviata)\, Mozart (Marriage of Figaro)\, and more! Arias\, duets\, trios\, and quartets telling the story of operatic love. The afternoon will start with sparkling and still wine provided by Notre Vue Estate Winery and Vineyards\, with an array of tasty bites from Mazza Catering.
X-ALT-DESC;FMTTYPE=text/html:On February 15\, take in the Voigt residence&rsquo\;s extensive sculpture and art collection as you experience the love when Pocket Opera performs songs from your favorite operas. The program for Healdsburg Center for the Arts will feature the best of the romantic operatic repertoire. Selections by Puccini (La Boheme\, La Rondine)\, Verdi (La Traviata)\, Mozart (Marriage of Figaro)\, and more! Arias\, duets\, trios\, and quartets telling the story of operatic love. The afternoon will start with sparkling and still wine provided by Notre Vue Estate Winery and Vineyards\, with an array of tasty bites from Mazza Catering.
LOCATION:Judy Voigt's home\, nestled in the hills above Geyserville.
UID:e.1308.13992
SEQUENCE:3
DTSTAMP:20260420T144253Z
URL:https://business.petalumachamber.biz/events/details/afternoon-of-love-songs-13992
END:VEVENT

END:VCALENDAR
