BEGIN:VCALENDAR
VERSION:2.0
PRODID:-//ChamberMaster//Event Calendar 2.0//EN
METHOD:PUBLISH
X-PUBLISHED-TTL:P3D
REFRESH-INTERVAL:P3D
CALSCALE:GREGORIAN
BEGIN:VEVENT
DTSTART:20191214T180000Z
DTEND:20191214T200000Z
X-MICROSOFT-CDO-ALLDAYEVENT:FALSE
SUMMARY:Alcohol Inks with Tina Moore
DESCRIPTION:Just in time for the holidays\, join Tina to unleash your creativity with the addictive medium of alcohol inks. The inks are highly saturated\, fast-drying and can be used on any hard surface including glass\, metal\, plastic\, ceramics and treated card stock. They are also indelible and impervious to water\, clean up with alcohol and re-wet themselves\, allowing for unique\, spontaneous effects and techniques not easily achieved with water-based inks. Whether you are beginning or seasoned artist\, you'll enjoy creating holiday gifts or something for yourself. We will stain porcelain tiles\, make mandalas\, decorations\, flowers abstracts and/or cards. The projects are endless!
X-ALT-DESC;FMTTYPE=text/html:Just in time for the holidays\, join Tina to unleash your creativity with the addictive medium of alcohol inks. The inks are highly saturated\, fast-drying and can be used on any hard surface including glass\, metal\, plastic\, ceramics and treated card stock. They are also indelible and impervious to water\, clean up with alcohol and re-wet themselves\, allowing for unique\, spontaneous effects and techniques not easily achieved with water-based inks. Whether you are beginning or seasoned artist\, you&rsquo\;ll enjoy creating holiday gifts or something for yourself. We will stain porcelain tiles\, make mandalas\, decorations\, flowers abstracts and/or cards. The projects are endless!
LOCATION:Healdsburg Community Center Room 9\, 1557 Healdsburg Ave.\, Healdsburg\, CA
UID:e.1308.13966
SEQUENCE:3
DTSTAMP:20260420T112152Z
URL:https://business.petalumachamber.biz/events/details/alcohol-inks-with-tina-moore-13966
END:VEVENT

END:VCALENDAR
