BEGIN:VCALENDAR
VERSION:2.0
PRODID:-//ChamberMaster//Event Calendar 2.0//EN
METHOD:PUBLISH
X-PUBLISHED-TTL:P3D
REFRESH-INTERVAL:P3D
CALSCALE:GREGORIAN
BEGIN:VEVENT
DTSTART;VALUE=DATE:20200923
DTEND;VALUE=DATE:20200928
TRANSP:TRANSPARENT
X-MICROSOFT-CDO-ALLDAYEVENT:TRUE
SUMMARY:Alexander Valley Film Festival
DESCRIPTION:AVFF regularly showcases and hosts new and emerging talents from all over the world. This year will be no different\; it will simply take place online! Leveraging our virtual programming since the dawn of COVID\, we will create opportunities for the community\, students and adults alike\, to meet\, interact with\, and learn from visiting artists. We will also offer deeply discounted tickets to students and neighbors in need so that no one will be turned away.
X-ALT-DESC;FMTTYPE=text/html:AVFF regularly showcases and hosts new and emerging talents from all over the world. This year will be no different\; it will simply take place online! Leveraging our virtual programming since the dawn of COVID\, we will create opportunities for the community\, students and adults alike\, to meet\, interact with\, and learn from visiting artists. We will also offer deeply discounted tickets to students and neighbors in need so that no one will be turned away.
LOCATION:ONLINE ONLY
UID:e.1308.14112
SEQUENCE:3
DTSTAMP:20260421T022620Z
URL:https://business.petalumachamber.biz/events/details/alexander-valley-film-festival-09-23-2020-14112
END:VEVENT

END:VCALENDAR
