BEGIN:VCALENDAR
VERSION:2.0
PRODID:-//ChamberMaster//Event Calendar 2.0//EN
METHOD:PUBLISH
X-PUBLISHED-TTL:P3D
REFRESH-INTERVAL:P3D
CALSCALE:GREGORIAN
BEGIN:VEVENT
DTSTART;VALUE=DATE:20191017
DTEND;VALUE=DATE:20191021
TRANSP:TRANSPARENT
X-MICROSOFT-CDO-ALLDAYEVENT:TRUE
SUMMARY:ALEXANDER VALLEY FILM FESTIVAL CELEBRATES FIFTH YEAR IN OCTOBER
DESCRIPTION:WHAT: 2019 Alexander Valley Film Festival. The ALEXANDER VALLEY FILM FESTIVAL (AVFF) is the culmination of all of our year-round programs and is celebrated annually the third weekend in October. Lauded as the hottest emerging regional film festival in the North Bay\, nearly 2\,000 tickets are sold for the unique mix of independent cinema with a Hollywood flare. The Festival features domestic and international narrative features\, documentaries\, short films\, special programs\, winners from the Student Film Competition\, community events and screenings\, a thrilling Opening Night Celebration\, and more!  WHY: This event is dedicated to bringing films and experiences to Northern Sonoma County to which the community would otherwise not have access. WHEN: October 17-20\, 2019 (Thursday-Sunday) WHERE: Anchors between The Clover Theater in Cloverdale and Raven Film Center in Healdsburg plus other venues throughout Northern Sonoma County. PUBLIC CONTACT: For more information about this event\, please call 707.893.7150. For more information about the Alexander Valley Film Society\, visit www.avfilmsociety.org or call 707.893.7150
X-ALT-DESC;FMTTYPE=text/html:WHAT: 2019 Alexander Valley Film Festival. The ALEXANDER VALLEY FILM FESTIVAL (AVFF) is the culmination of all of our year-round programs and is celebrated annually the third weekend in October. Lauded as the hottest emerging regional film festival in the North Bay\, nearly 2\,000 tickets are sold&nbsp\;for the unique mix of independent cinema with a Hollywood flare. The Festival&nbsp\;features domestic and international narrative features\, documentaries\, short films\, special programs\, winners from the Student Film Competition\, community events and screenings\, a thrilling Opening Night Celebration\, and more!&nbsp\; WHY: This event is dedicated to bringing films and experiences to Northern Sonoma County to which the community would otherwise not have access. WHEN: October 17-20\, 2019 (Thursday-Sunday) WHERE: Anchors between The Clover Theater in Cloverdale and Raven Film Center in Healdsburg plus other venues throughout Northern Sonoma County. PUBLIC CONTACT: For more information about this event\, please call 707.893.7150. For more information about the Alexander Valley Film Society\, visit www.avfilmsociety.org or call 707.893.7150
LOCATION:The Clover Theater\, Raven Film Center\, and more!
UID:e.1308.13750
SEQUENCE:3
DTSTAMP:20260420T081400Z
URL:https://business.petalumachamber.biz/events/details/alexander-valley-film-festival-celebrates-fifth-year-in-october-13750
END:VEVENT

END:VCALENDAR
