BEGIN:VCALENDAR
VERSION:2.0
PRODID:-//ChamberMaster//Event Calendar 2.0//EN
METHOD:PUBLISH
X-PUBLISHED-TTL:P3D
REFRESH-INTERVAL:P3D
CALSCALE:GREGORIAN
BEGIN:VEVENT
DTSTART:20190921T230000Z
DTEND:20190922T013000Z
X-MICROSOFT-CDO-ALLDAYEVENT:FALSE
SUMMARY:Americana on the Green: Dirty Cello (Free Admission)
DESCRIPTION:Join us at Sonoma County's favorite live music venue for Americana on the Green at Rodney Strong Vineyards! Bring your family\, friends\, chairs\, and blankets\, and settle in for a casual early evening of Americana courtesy of Dirty Cello! Wine by the glass and by the bottle will be available\, along with The Wurst Restaurant Pop Up. Free admission!
X-ALT-DESC;FMTTYPE=text/html:Join us at Sonoma County&rsquo\;s favorite live music venue for Americana on the Green at Rodney Strong Vineyards! Bring your family\, friends\, chairs\, and blankets\, and settle in for a casual early evening of Americana courtesy of Dirty Cello! Wine by the glass and by the bottle will be available\, along with The Wurst Restaurant Pop Up. Free admission!
LOCATION:Rodney Strong Vineyards 11455 Old Redwood Hwy Healdsburg\, CA 95448
UID:e.1308.13802
SEQUENCE:3
DTSTAMP:20260420T061532Z
URL:https://business.petalumachamber.biz/events/details/americana-on-the-green-dirty-cello-free-admission-13802
END:VEVENT

END:VCALENDAR
