BEGIN:VCALENDAR
VERSION:2.0
PRODID:-//ChamberMaster//Event Calendar 2.0//EN
METHOD:PUBLISH
X-PUBLISHED-TTL:P3D
REFRESH-INTERVAL:P3D
CALSCALE:GREGORIAN
BEGIN:VEVENT
DTSTART:20181020T173000Z
DTEND:20181020T190000Z
X-MICROSOFT-CDO-ALLDAYEVENT:FALSE
SUMMARY:Annual Cemetery Tour Cypress Hill Cemetery
DESCRIPTION:Meet some of Petaluma's most important historical figures as they come to life to share their stories. Dressed in period attire\, the Petalumans of Yesteryear guide you to the grave sites while telling the tales of the local luminaries. Brainerd Jones\, Petalumas renowned architect\; Lyman Byce\, Petaluma Incubator Company\; Captain Tom Baylis\, early river captain\; Isaac Wickersham\, Esq.\, lawyer and entrepreneur\; Addie Atwater\, early civic leader\; The McNears   early Petaluma dynasty family\; The Lippetts   Professor and Mrs. Lippett\; Fred Wiseman   famous aviator. Tickets available online https://cemeterytour2018.brownpapertickets.com
X-ALT-DESC;FMTTYPE=text/html:Meet some of Petaluma&rsquo\;s most important historical figures as they come to life to share their stories. Dressed in period attire\, the Petalumans of Yesteryear guide you to the grave sites while telling the tales of the local luminaries. Brainerd Jones\, Petalumas renowned architect\; Lyman Byce\, Petaluma Incubator Company\; Captain Tom Baylis\, early river captain\; Isaac Wickersham\, Esq.\, lawyer and entrepreneur\; Addie Atwater\, early civic leader\; The McNears &ndash\; early Petaluma dynasty family\; The Lippetts &ndash\; Professor and Mrs. Lippett\; Fred Wiseman &ndash\; famous aviator. Tickets available online https://cemeterytour2018.brownpapertickets.com
LOCATION:Cypress Hill Cemetery 430 Magnolia Ave Petaluma\, CA 94952 United States
UID:e.1308.12796
SEQUENCE:3
DTSTAMP:20260419T114504Z
URL:https://business.petalumachamber.biz/events/details/annual-cemetery-tour-cypress-hill-cemetery-12796
END:VEVENT

END:VCALENDAR
