BEGIN:VCALENDAR
VERSION:2.0
PRODID:-//ChamberMaster//Event Calendar 2.0//EN
METHOD:PUBLISH
X-PUBLISHED-TTL:P3D
REFRESH-INTERVAL:P3D
CALSCALE:GREGORIAN
BEGIN:VEVENT
DTSTART:20190719T183000Z
DTEND:20190719T210000Z
X-MICROSOFT-CDO-ALLDAYEVENT:FALSE
SUMMARY:Annual Members Luncheon and Board Installation
DESCRIPTION:Petaluma Area Chamber of Commerce presents:\n\nAnnual Members Lunch and Installation of 2019-2020 Chamber Board
X-ALT-DESC;FMTTYPE=text/html:Petaluma Area Chamber of Commerce presents:<br />\nAnnual Members Lunch and Installation of 2019-2020 Chamber Board&nbsp\;
LOCATION:Sally Tomatoes 1100 Valley House Drive Rohnert Park
UID:e.1308.12952
SEQUENCE:3
DTSTAMP:20260420T023247Z
URL:https://business.petalumachamber.biz/events/details/annual-members-luncheon-and-board-installation-12952
END:VEVENT

END:VCALENDAR
