BEGIN:VCALENDAR
VERSION:2.0
PRODID:-//ChamberMaster//Event Calendar 2.0//EN
METHOD:PUBLISH
X-PUBLISHED-TTL:P3D
REFRESH-INTERVAL:P3D
CALSCALE:GREGORIAN
BEGIN:VEVENT
DTSTART:20200712T180000Z
DTEND:20200713T000000Z
X-MICROSOFT-CDO-ALLDAYEVENT:FALSE
SUMMARY:Art & Garden Festival
DESCRIPTION:Everything that you love about Petaluma can be found at the Art & Garden Festival in historic downtown Petaluma. Enjoy Sonoma County brews and wine\, savor culinary delights from local restaurants\, dance to live music and browse more than 140 booths offering creative home and garden d cor\, jewelry\, art\, and sustainability ideas. And best of all\, there is no admission charge to enjoy the block party vibe. While strolling Kentucky Street at the festival\, look for ticket booths to pick up a map\, purchase sampling tickets and get your souvenir Art & Garden wine or beer glass. Then plan your afternoon of noshing and shopping! The Art & Garden Festival is truly home-grown\, formed in 2002 as a result of the efforts of a few downtown merchants with the help and support of the Petaluma Downtown Association.  It became a way to raise funds for the downtown and an opportunity to showcase the work of local artists and sample local food\, wines and craft beers.
X-ALT-DESC;FMTTYPE=text/html:Everything that you love about Petaluma can be found at the&nbsp\;Art &amp\; Garden Festival&nbsp\;in historic downtown Petaluma. Enjoy Sonoma County brews and wine\, savor culinary delights from local restaurants\, dance to live music and browse more than 140 booths offering creative home and garden d&eacute\;cor\, jewelry\, art\, and sustainability ideas. And best of all\, there is no admission charge to enjoy the block party vibe. While strolling Kentucky Street at the festival\, look for ticket booths to pick up a map\, purchase sampling tickets and get your souvenir Art &amp\; Garden wine or beer glass. Then plan your afternoon of noshing and shopping! The Art &amp\; Garden Festival is truly home-grown\, formed in 2002 as a result of the efforts of a few downtown merchants with the help and support of the Petaluma Downtown Association.&nbsp\; It became a way to raise funds for the downtown and an opportunity to showcase the work of local artists and sample local food\, wines and craft beers.
LOCATION:Historic Downtown Petaluma
UID:e.1308.14074
SEQUENCE:3
DTSTAMP:20260420T225356Z
URL:https://business.petalumachamber.biz/events/details/art-garden-festival-07-12-2020-14074
END:VEVENT

END:VCALENDAR
