BEGIN:VCALENDAR
VERSION:2.0
PRODID:-//ChamberMaster//Event Calendar 2.0//EN
METHOD:PUBLISH
X-PUBLISHED-TTL:P3D
REFRESH-INTERVAL:P3D
CALSCALE:GREGORIAN
BEGIN:VEVENT
DTSTART:20211204T190000Z
DTEND:20211219T000000Z
X-MICROSOFT-CDO-ALLDAYEVENT:FALSE
SUMMARY:Artful Hoidays. Petaluma Pop Up Gallery Shop
DESCRIPTION:Pop-up shopping opportunity. Buy artful gifts directly from local artists and artisans. 5 days only. Weekends. December 4\,5\,11\,12 and 18th. Open 11-4. Jewelry\, ceramics\, glass and art. Featuring artists: Beka Brayer (assemblage from vintage finds) Melissa McCann (glass art and jewelry) Elizabeth McKoy (acrylic paintings) Patricia Jane Reilly (enamel\, silver and mixed media jewelry) Tortuga Ceramic Studio (functional and decorative ceramics) Carolyn Wilson (mixed media collage art) See ongoing enamel jewelry making demonstrations by Patricia Reilly and collage art demonstrations by Carolyn Wilson.
X-ALT-DESC;FMTTYPE=text/html:Pop-up shopping opportunity. Buy artful gifts directly from local artists and artisans. 5 days only. Weekends. December 4\,5\,11\,12 and 18th. Open 11-4. Jewelry\, ceramics\, glass and art. Featuring artists: Beka Brayer (assemblage from vintage finds) Melissa McCann (glass art and jewelry) Elizabeth McKoy (acrylic paintings) Patricia Jane Reilly (enamel\, silver and mixed media jewelry) Tortuga Ceramic Studio (functional and decorative ceramics) Carolyn Wilson (mixed media collage art) See ongoing enamel jewelry making demonstrations by Patricia Reilly and collage art demonstrations by Carolyn Wilson.
LOCATION:145 Keller Street\, Petaluma
UID:e.1308.16372
SEQUENCE:3
DTSTAMP:20260422T030337Z
URL:https://business.petalumachamber.biz/events/details/artful-hoidays-petaluma-pop-up-gallery-shop-16372
END:VEVENT

END:VCALENDAR
