BEGIN:VCALENDAR
VERSION:2.0
PRODID:-//ChamberMaster//Event Calendar 2.0//EN
METHOD:PUBLISH
X-PUBLISHED-TTL:P3D
REFRESH-INTERVAL:P3D
CALSCALE:GREGORIAN
BEGIN:VEVENT
DTSTART:20260513T183000Z
DTEND:20260513T203000Z
X-MICROSOFT-CDO-ALLDAYEVENT:FALSE
SUMMARY:At the Table with Recology Sonoma-Marin Zero Waste Sonoma and Refill Mercantile
DESCRIPTION:At the Table Luncheon Series
X-ALT-DESC;FMTTYPE=text/html:At the Table Luncheon Series
LOCATION:Torches 256 Petaluma Blvd North
UID:e.1308.18045
SEQUENCE:3
DTSTAMP:20260421T114650Z
URL:https://business.petalumachamber.biz/events/details/at-the-table-with-recology-sonoma-marin-zero-waste-sonoma-and-refill-mercantile-18045
END:VEVENT

END:VCALENDAR
