BEGIN:VCALENDAR
VERSION:2.0
PRODID:-//ChamberMaster//Event Calendar 2.0//EN
METHOD:PUBLISH
X-PUBLISHED-TTL:P3D
REFRESH-INTERVAL:P3D
CALSCALE:GREGORIAN
BEGIN:VEVENT
DTSTART:20181110T180000Z
DTEND:20181110T220000Z
X-MICROSOFT-CDO-ALLDAYEVENT:FALSE
SUMMARY:Babysitter Training
DESCRIPTION:Babysitting is an important job. You need safety and life skills to take care of and protect children. In this American Red Cross Babysitter's Training course\, you will learn basic care giving\, how to make good decisions\, accident prevention and age appropriate play. The course is fun and fast-paced with hands-on activities\, exciting video and lively discussions. You'll learn to be the best babysitter on the block. Plus\, you'll gain the confidence to make smart decisions and stay safe in any babysitting situation. Impress parents by earning your Babysitter's Training certificate! Please bring a pen/pencil\, note paper\, and lunch to class. Course fee includes American Red Cross Babysitter's handbook and certificate. Space is Limited! Ages 10-15 Welcome.
X-ALT-DESC;FMTTYPE=text/html:<span style="background-color:rgb(250\, 250\, 250)\; color:rgba(0\, 0\, 0\, 0.87)\; font-family:roboto slab\,times new roman\,serif\; font-size:14px">Babysitting is an important job. You need safety and life skills to take care of and protect children. In this American Red Cross Babysitter&#39\;s Training course\, you will learn basic care giving\, how to make good decisions\, accident prevention and age appropriate play. The course is fun and fast-paced with hands-on activities\, exciting video and lively discussions. You&#39\;ll learn to be the best babysitter on the block. Plus\, you&#39\;ll gain the confidence to make smart decisions and stay safe in any babysitting situation. Impress parents by earning your Babysitter&#39\;s Training certificate! Please bring a pen/pencil\, note paper\, and lunch to class. Course fee includes American Red Cross Babysitter&#39\;s handbook and certificate. Space is Limited! Ages 10-15 Welcome.</span>
LOCATION:Keller Street CoWork 140 Keller Street
UID:e.1308.12816
SEQUENCE:3
DTSTAMP:20260419T130010Z
URL:https://business.petalumachamber.biz/events/details/babysitter-training-12816
END:VEVENT

END:VCALENDAR
