BEGIN:VCALENDAR
VERSION:2.0
PRODID:-//ChamberMaster//Event Calendar 2.0//EN
METHOD:PUBLISH
X-PUBLISHED-TTL:P3D
REFRESH-INTERVAL:P3D
CALSCALE:GREGORIAN
BEGIN:VEVENT
DTSTART:20191007T200000Z
DTEND:20191007T230000Z
X-MICROSOFT-CDO-ALLDAYEVENT:FALSE
SUMMARY:Become a volunteer for the Village Network of Petaluma! Volunteer Orientation – October 7th
DESCRIPTION:Become a volunteer for the Village Network of Petaluma! The Village Network is a non-profit 50 + community that provides social networks\, programs\, and volunteer services for members as we age. We are especially in need of volunteer drivers to take people who are unable to drive to doctors appointments\, grocery shopping\, etc. We also need volunteers for our technology workshops\, programs\, social events and many other positions. Volunteering is a great way to meet new friends and enrich your life and the lives of others! \n\n \n\nJoin us for our Volunteer Orientation on Monday October 7thfrom 1-4. Whether or not you are ready to volunteer for the Village Network\, it is a great opportunity  to find out more about what we do. Please RSVP to Info@VillageNetworkofPetaluma.com or call 707-776-6055.
X-ALT-DESC;FMTTYPE=text/html:<span style="font-size:14pt">Become a volunteer for the Village Network of Petaluma! The Village Network is a non-profit 50 + community that provides social networks\, programs\, and volunteer services for members as we age. We are especially in need of volunteer drivers to take people who are unable to drive to doctors appointments\, grocery shopping\, etc. We also need volunteers for our technology workshops\, programs\, social events and many other positions. Volunteering is a great way to meet new friends and enrich your life and the lives of others!&nbsp\;</span><br />\n&nbsp\;<br />\n<span style="font-size:14pt">Join us for our Volunteer Orientation on Monday October 7<sup>th</sup>from 1-4. Whether or not you are ready to volunteer for the Village Network\, it is a great opportunity&nbsp\;&nbsp\;to find out more about what we do. Please RSVP to&nbsp\;<strong>Info@VillageNetworkofPetaluma.com&nbsp\;</strong>or call 707-776-6055.</span>
LOCATION:Village Network Office - 955 Petaluma Blvd S\, Petaluma\, CA 94952
UID:e.1308.13942
SEQUENCE:3
DTSTAMP:20260420T081353Z
URL:https://business.petalumachamber.biz/events/details/become-a-volunteer-for-the-village-network-of-petaluma-volunteer-orientation-october-7th-13942
END:VEVENT

END:VCALENDAR
