BEGIN:VCALENDAR
VERSION:2.0
PRODID:-//ChamberMaster//Event Calendar 2.0//EN
METHOD:PUBLISH
X-PUBLISHED-TTL:P3D
REFRESH-INTERVAL:P3D
CALSCALE:GREGORIAN
BEGIN:VEVENT
DTSTART:20190630T003000Z
DTEND:20190630T050000Z
X-MICROSOFT-CDO-ALLDAYEVENT:FALSE
SUMMARY:Beffa Springs Ranch Dinner
DESCRIPTION:come out to a beautiful 200 acers working ranch and have a Ranch to table dinner. starting with an hour of appetizers\, family style sit down dinner and dessert. Enough live music will be playing threw out the evening. Come with friends or just to have a good time. reserve your spot there will be one every month..
X-ALT-DESC;FMTTYPE=text/html:come out to a beautiful 200 acers working ranch and have a Ranch to table dinner. starting with an hour of appetizers\, family style sit down dinner and dessert. Enough live music will be playing threw out the evening. Come with friends or just to have a good time. reserve your spot there will be one every month..
LOCATION:Beffa Springs Ranch Petaluma Ca
UID:e.1308.13609
SEQUENCE:3
DTSTAMP:20260420T004228Z
URL:https://business.petalumachamber.biz/events/details/beffa-springs-ranch-dinner-13609
END:VEVENT

END:VCALENDAR
