BEGIN:VCALENDAR
VERSION:2.0
PRODID:-//ChamberMaster//Event Calendar 2.0//EN
METHOD:PUBLISH
X-PUBLISHED-TTL:P3D
REFRESH-INTERVAL:P3D
CALSCALE:GREGORIAN
BEGIN:VEVENT
DTSTART:20191012T020000Z
DTEND:20191101T060000Z
X-MICROSOFT-CDO-ALLDAYEVENT:FALSE
SUMMARY:Blind Scream Haunted House
DESCRIPTION:BLIND SCREAM is waiting for you with two terrifying HAUNTED HOUSES in over 15\,000 square feet of pure exhilaration. Lil Horrus is back! He just wants to have a lil fun!! Be careful or you might wind up in his Lil Freak Show. If you stumble upon Lil Horrus\, you better run for your life! And\, NEW this year: Witch House! Deep in the dank\, dark woods stands a dilapidated old dwelling that the townsfolk steer clear of. It's inhabited by 3 terrible sisters\, each one as evil as hell itself. They have poisoned the surrounding lands and cursed anyone who dares enter this vile place they claim as home. Those brave enough to cross the threshold\, well\, they NEVER RETURN. Enter if you must  Blind Scream offers two heart thumping\, blood pumping experiences that will not disappoint. Haunts are all indoors. More info at http://www.blindscream.com.
X-ALT-DESC;FMTTYPE=text/html:BLIND SCREAM is waiting for you with two terrifying HAUNTED HOUSES in over 15\,000 square feet of pure exhilaration. Lil Horrus is back! He just wants to have a lil fun!! Be careful or you might wind up in his Lil Freak Show. If you stumble upon Lil Horrus\, you better run for your life! And\, NEW this year: Witch House! Deep in the dank\, dark woods stands a dilapidated old dwelling that the townsfolk steer clear of. It&rsquo\;s inhabited by 3 terrible sisters\, each one as evil as hell itself. They have poisoned the surrounding lands and cursed anyone who dares enter this vile place they claim as home. Those brave enough to cross the threshold\, well\, they NEVER RETURN. Enter if you must&hellip\; Blind Scream offers two heart thumping\, blood pumping experiences that will not disappoint. Haunts are all indoors. More info at http://www.blindscream.com.
LOCATION:Formerly Sears Auto Center at Santa Rosa Plaza 98 Santa Rosa Plaza\, Santa Rosa\, CA 95401
UID:e.1308.13791
SEQUENCE:3
DTSTAMP:20260420T081043Z
URL:https://business.petalumachamber.biz/events/details/blind-scream-haunted-house-10-11-2019-13791
END:VEVENT

END:VCALENDAR
