BEGIN:VCALENDAR
VERSION:2.0
PRODID:-//ChamberMaster//Event Calendar 2.0//EN
METHOD:PUBLISH
X-PUBLISHED-TTL:P3D
REFRESH-INTERVAL:P3D
CALSCALE:GREGORIAN
BEGIN:VEVENT
DTSTART:20260717T183000Z
DTEND:20260717T203000Z
X-MICROSOFT-CDO-ALLDAYEVENT:FALSE
SUMMARY:Board of Directors Installation Luncheon
DESCRIPTION:Board of Directors Installation Luncheon
X-ALT-DESC;FMTTYPE=text/html:Board of Directors Installation Luncheon
LOCATION:Torches 256 Petaluma Blvd N Petaluma
UID:e.1308.18049
SEQUENCE:3
DTSTAMP:20260422T025916Z
URL:https://business.petalumachamber.biz/events/details/board-of-directors-installation-luncheon-18049
END:VEVENT

END:VCALENDAR
