BEGIN:VCALENDAR
VERSION:2.0
PRODID:-//ChamberMaster//Event Calendar 2.0//EN
METHOD:PUBLISH
X-PUBLISHED-TTL:P3D
REFRESH-INTERVAL:P3D
CALSCALE:GREGORIAN
BEGIN:VEVENT
DTSTART:20260616T173000Z
DTEND:20260616T200000Z
X-MICROSOFT-CDO-ALLDAYEVENT:FALSE
SUMMARY:Board of Directors Retreat
DESCRIPTION:Board of Directors Retreat
X-ALT-DESC;FMTTYPE=text/html:Board of Directors Retreat
LOCATION:Petaluma Chamber of Commerce Conference Room 6 Petaluma Blvd N Suite B-11 Petaluma
UID:e.1308.18051
SEQUENCE:3
DTSTAMP:20260422T025922Z
URL:https://business.petalumachamber.biz/events/details/board-of-directors-retreat-18051
END:VEVENT

END:VCALENDAR
