BEGIN:VCALENDAR
VERSION:2.0
PRODID:-//ChamberMaster//Event Calendar 2.0//EN
METHOD:PUBLISH
X-PUBLISHED-TTL:P3D
REFRESH-INTERVAL:P3D
CALSCALE:GREGORIAN
BEGIN:VEVENT
DTSTART:20190609T020000Z
DTEND:20190609T040000Z
X-MICROSOFT-CDO-ALLDAYEVENT:FALSE
SUMMARY:Books & Brews
DESCRIPTION:The Sonoma County Public Library Foundation invites you to experience the library after hours. Get a chance to experience the Santa Rosa Central Library at night with a beer in hand. We will share exciting projects the Foundation is funding and innovative new ideas from Library staff\, such as Chromebooks that can be checked out at every branch! This fundraiser will raise money to support all Sonoma County libraries. Come play the electric piano (did you know there was a piano in the library?)\; ride the blender bike\; see the 3-D printer in action\; enjoy drinks from Lagunitas\, Bear Republic\, Russian River\, Henhouse\, and Golden State Cider\; nibble some delicious appetizers from A La Heart Catering\, and enjoy your local public library. All tickets include entry to the event\, beer\, cider\, and appetizers. We'll see you there!
X-ALT-DESC;FMTTYPE=text/html:The Sonoma County Public Library Foundation invites you to experience the library after hours. Get a chance to experience the Santa Rosa Central Library at night with a beer in hand. We will share exciting projects the Foundation is funding and innovative new ideas from Library staff\, such as Chromebooks that can be checked out at every branch! This fundraiser will raise money to support all Sonoma County libraries. Come play the electric piano (did you know there was a piano in the library?)\; ride the blender bike\; see the 3-D printer in action\; enjoy drinks from Lagunitas\, Bear Republic\, Russian River\, Henhouse\, and Golden State Cider\; nibble some delicious appetizers from A La Heart Catering\, and enjoy your local public library. All tickets include entry to the event\, beer\, cider\, and appetizers. We&#39\;ll see you there!
LOCATION:Santa Rosa Central Library 211 E Street Santa Rosa\, CA 95404
UID:e.1308.13757
SEQUENCE:3
DTSTAMP:20260420T003501Z
URL:https://business.petalumachamber.biz/events/details/books-brews-13757
END:VEVENT

END:VCALENDAR
