BEGIN:VCALENDAR
VERSION:2.0
PRODID:-//ChamberMaster//Event Calendar 2.0//EN
METHOD:PUBLISH
X-PUBLISHED-TTL:P3D
REFRESH-INTERVAL:P3D
CALSCALE:GREGORIAN
BEGIN:VEVENT
DTSTART:20181109T010000Z
DTEND:20181109T030000Z
X-MICROSOFT-CDO-ALLDAYEVENT:FALSE
SUMMARY:Bowl Painting with Purpose
DESCRIPTION:Purpose Financial + Insurance Services & the Petaluma Area Chamber of Commerce \n\nare hosting a pottery painting party to help support \n\nPPSC Meals on Wheels and Petaluma Bounty.\n \n\nHere is how it works:\n \n\n You choose a bowl to paint for a donation of $20.00.\n\n You decide if you just want to keep the bowl you paint or have it auctioned off at the event. If you want to keep your bowl it will cost $20.00 so we don't auction it off. \n\n\n	Watch for your bowl and the bowls from our party to be posted on 1000 Petaluma Bowls Facebook page.\n	As a "Community Artist" you get to come to the event for free. Come have a bowl of soup\, see all the beautiful bowls\, pick up or bid on your bowl and know that today ..by participating in this program at least one person was able to have access to the food they need.
X-ALT-DESC;FMTTYPE=text/html:<h2 align="center" style="margin-top:0in\;text-align:center\;line-height:normal\;"><strong><span style="color:#0070C0\;"><span style="font-size:12.0pt\;">Purpose Financial + Insurance Services &amp\; the Petaluma Area Chamber of Commerce </span></span></strong></h2>\n\n<h2 align="center" style="margin-top:0in\;text-align:center\;line-height:normal\;"><strong><span style="color:#0070C0\;"><span style="font-size:12.0pt\;">are hosting a pottery painting party to help support </span></span></strong></h2>\n\n<h2 align="center" style="margin-top:0in\;text-align:center\;line-height:normal\;"><strong><span style="color:#0070C0\;"><span style="font-size:12.0pt\;">PPSC Meals on Wheels and Petaluma Bounty.</span></span></strong></h2>\n&nbsp\;\n\n<h1 style="margin-top:0in\;line-height:normal\;"><strong><span style="color:#0070C0\;"><span style="font-family:calibri\,sans-serif\;"><span style="font-size:11.0pt\;">Here is how it works:</span></span></span></strong></h1>\n&nbsp\;\n\n<h2 style="margin-top:0in\;margin-right:0in\;margin-bottom:0in\;margin-left:.25in\;margin-bottom:.0001pt\;text-indent:-.25in\;line-height:normal\;"><span style="color:#0070C0\;"><span style="font-family:symbol\;"><span style="font-size:11.0pt\;">&middot\;</span></span></span><strong><span style="color:#0070C0\;"><span style="font-family:calibri\,sans-serif\;"><span style="font-size:11.0pt\;">You choose a bowl to paint for a donation of $20.00.</span></span></span></strong></h2>\n\n<h1 style="margin-top:0in\;margin-right:0in\;margin-bottom:0in\;margin-left:.25in\;margin-bottom:.0001pt\;text-indent:-.25in\;line-height:normal\;"><span style="color:#0070C0\;"><span style="font-family:symbol\;"><span style="font-size:11.0pt\;">&middot\;</span></span></span><strong><span style="color:#0070C0\;"><span style="font-family:calibri\,sans-serif\;"><span style="font-size:11.0pt\;">You decide if you just want to keep the bowl you paint or have it auctioned off at the event. If you want to keep your bowl it will cost $20.00&hellip\;so we don&rsquo\;t auction it off. </span></span></span></strong></h1>\n\n<ul>\n	<li style="margin-top:0in\;margin-right:0in\;margin-bottom:0in\;margin-bottom:.0001pt\;"><strong><span style="color:#0070C0\;">Watch for your bowl and the bowls from our party to be posted on 1000 Petaluma Bowls Facebook page.</span></strong></li>\n	<li style="margin-top:0in\;margin-right:0in\;margin-bottom:0in\;margin-bottom:.0001pt\;"><strong><span style="color:#0070C0\;">As a &ldquo\;Community Artist&rdquo\; you get to come to the event for free. Come have a bowl of soup\, see all the beautiful bowls\, pick up or bid on your bowl and know that today&hellip\;..by participating in this program at least one person was able to have access to the food they need. </span></strong></li>\n</ul>\n
LOCATION:265 North let us know you are coming
UID:e.1308.12812
SEQUENCE:3
DTSTAMP:20260419T130301Z
URL:https://business.petalumachamber.biz/events/details/bowl-painting-with-purpose-12812
END:VEVENT

END:VCALENDAR
