BEGIN:VCALENDAR
VERSION:2.0
PRODID:-//ChamberMaster//Event Calendar 2.0//EN
METHOD:PUBLISH
X-PUBLISHED-TTL:P3D
REFRESH-INTERVAL:P3D
CALSCALE:GREGORIAN
BEGIN:VEVENT
DTSTART:20190127T010000Z
DTEND:20190127T060000Z
X-MICROSOFT-CDO-ALLDAYEVENT:FALSE
SUMMARY:Boys & Girls Clubs of Central Sonoma County 2019 Crab Feed
DESCRIPTION:Join us for a lively evening that includes an all-you-can-eat dinner\, dancing\, live and silent auction\, as well as a no host bar\, and a DJ! Enjoy a scrumptious menu of freshly cracked crab\, pasta\, salad\, and bread. This event benefits the afterschool\, sports\, and summer programming that our Clubs offer to over 2\,100 youth every day in Petaluma\, Corte Madera\, and Marin City.
X-ALT-DESC;FMTTYPE=text/html:Join us for a lively evening that includes an all-you-can-eat dinner\, dancing\, live and silent auction\, as well as a no host bar\, and a DJ! Enjoy a scrumptious menu of freshly cracked crab\, pasta\, salad\, and bread. This event benefits the afterschool\, sports\, and summer programming that our Clubs offer to over 2\,100 youth every day in Petaluma\, Corte Madera\, and Marin City.
LOCATION:Luchessi Park Clubhouse
UID:e.1308.12883
SEQUENCE:3
DTSTAMP:20260419T162601Z
URL:https://business.petalumachamber.biz/events/details/boys-girls-clubs-of-central-sonoma-county-2019-crab-feed-12883
END:VEVENT

END:VCALENDAR
