BEGIN:VCALENDAR
VERSION:2.0
PRODID:-//ChamberMaster//Event Calendar 2.0//EN
METHOD:PUBLISH
X-PUBLISHED-TTL:P3D
REFRESH-INTERVAL:P3D
CALSCALE:GREGORIAN
BEGIN:VEVENT
DTSTART:20190928T180000Z
DTEND:20190929T010000Z
X-MICROSOFT-CDO-ALLDAYEVENT:FALSE
SUMMARY:Bring a friend and receive 15% off!
DESCRIPTION:So many beautiful styles and colors!\n\nIt's time to update your fall wardrobe. \n\nBring a friend who is new to Shunzi this Saturday.\n\nEat\, drink and have fun with us while trying your favorite styles!\n\nYou and your friend will receive 15% off all non-sale items.
X-ALT-DESC;FMTTYPE=text/html:<div style="text-align:center"><span style="font-size:16px">So many beautiful styles and colors!</span></div>\n\n<div style="text-align:center"><span style="font-size:16px">It&#39\;s time to update your fall wardrobe. </span></div>\n\n<div style="text-align:center"><span style="font-size:16px">Bring a friend who is new to Shunzi this Saturday.</span></div>\n\n<div style="text-align:center"><span style="font-size:16px">Eat\, drink and have fun with us while trying your favorite styles!</span></div>\n\n<div style="text-align:center"><span style="font-size:16px">You and your friend will receive </span><span style="color:rgb(255\, 0\, 0)\; font-size:16px">15% off all non-sale items</span><span style="font-size:16px">. </span></div>\n
LOCATION:
UID:e.1308.13939
SEQUENCE:3
DTSTAMP:20260420T060758Z
URL:https://business.petalumachamber.biz/events/details/bring-a-friend-and-receive-15-off-13939
END:VEVENT

END:VCALENDAR
