BEGIN:VCALENDAR
VERSION:2.0
PRODID:-//ChamberMaster//Event Calendar 2.0//EN
METHOD:PUBLISH
X-PUBLISHED-TTL:P3D
REFRESH-INTERVAL:P3D
CALSCALE:GREGORIAN
BEGIN:VEVENT
DTSTART:20200222T010000Z
DTEND:20200222T040000Z
X-MICROSOFT-CDO-ALLDAYEVENT:FALSE
SUMMARY:Business After Hours and Ribbon Cutting: Altura Apartments
DESCRIPTION:Join us in celebrating with Altura Apartments at their grand opening celebration! Food\, music\, raffle prizes and a ribbon cutting ceremony!
X-ALT-DESC;FMTTYPE=text/html:Join us in celebrating with Altura Apartments at their grand opening celebration! Food\, music\, raffle prizes and a ribbon cutting ceremony!
LOCATION:1113 Baywood Drive Petaluma CA 94954
UID:e.1308.13991
SEQUENCE:3
DTSTAMP:20260420T144312Z
URL:https://business.petalumachamber.biz/events/details/business-after-hours-and-ribbon-cutting-altura-apartments-13991
END:VEVENT

END:VCALENDAR
