BEGIN:VCALENDAR
VERSION:2.0
PRODID:-//ChamberMaster//Event Calendar 2.0//EN
METHOD:PUBLISH
X-PUBLISHED-TTL:P3D
REFRESH-INTERVAL:P3D
CALSCALE:GREGORIAN
BEGIN:VEVENT
DTSTART:20190522T233000Z
DTEND:20190523T013000Z
X-MICROSOFT-CDO-ALLDAYEVENT:FALSE
SUMMARY:Business After Hours and Ribbon Cutting: Clutch
DESCRIPTION:Come check out the new Petaluma location of Clutch!
X-ALT-DESC;FMTTYPE=text/html:Come check out the new Petaluma location of Clutch!
LOCATION:133 Kentucky St
UID:e.1308.13352
SEQUENCE:3
DTSTAMP:20260420T004542Z
URL:https://business.petalumachamber.biz/events/details/business-after-hours-and-ribbon-cutting-clutch-13352
END:VEVENT

END:VCALENDAR
