BEGIN:VCALENDAR
VERSION:2.0
PRODID:-//ChamberMaster//Event Calendar 2.0//EN
METHOD:PUBLISH
X-PUBLISHED-TTL:P3D
REFRESH-INTERVAL:P3D
CALSCALE:GREGORIAN
BEGIN:VEVENT
DTSTART:20190620T233000Z
DTEND:20190621T010000Z
X-MICROSOFT-CDO-ALLDAYEVENT:FALSE
SUMMARY:Business After Hours and Ribbon Cutting: Vanguard Properties
DESCRIPTION:Join us in celebrating Vanguard Properties new office with a ribbon cutting!\n\nWine and cheese will be served.
X-ALT-DESC;FMTTYPE=text/html:Join us in celebrating Vanguard Properties new office with a ribbon cutting!<br />\nWine and cheese will be served.
LOCATION:151 Petaluma Blvd S Suite 137
UID:e.1308.13759
SEQUENCE:3
DTSTAMP:20260420T023636Z
URL:https://business.petalumachamber.biz/events/details/business-after-hours-and-ribbon-cutting-vanguard-properties-13759
END:VEVENT

END:VCALENDAR
