BEGIN:VCALENDAR
VERSION:2.0
PRODID:-//ChamberMaster//Event Calendar 2.0//EN
METHOD:PUBLISH
X-PUBLISHED-TTL:P3D
REFRESH-INTERVAL:P3D
CALSCALE:GREGORIAN
BEGIN:VEVENT
DTSTART:20200117T000000Z
DTEND:20200117T020000Z
X-MICROSOFT-CDO-ALLDAYEVENT:FALSE
SUMMARY:Business After Hours and Ribbon Cutting: Wicked Slush Petaluma
DESCRIPTION:Please join us in celebrating Wicked Slush's Petaluma location with a Business After Hours mixer and ribbon cutting! \n\n\n\nLots of slush\, soft serve and yummy tastings!\n\n\n\nHomemade chili and other refreshments!\n\n\n\nRaffle Prizes!
X-ALT-DESC;FMTTYPE=text/html:Please join us in celebrating Wicked Slush&#39\;s Petaluma location with a Business After Hours mixer and ribbon cutting!&nbsp\;<br />\n<br />\nLots of slush\, soft serve and yummy tastings!<br />\n<br />\nHomemade chili and other refreshments!<br />\n<br />\nRaffle Prizes!
LOCATION:122B American Alley\, Petaluma
UID:e.1308.13977
SEQUENCE:3
DTSTAMP:20260420T131718Z
URL:https://business.petalumachamber.biz/events/details/business-after-hours-and-ribbon-cutting-wicked-slush-petaluma-13977
END:VEVENT

END:VCALENDAR
