BEGIN:VCALENDAR
VERSION:2.0
PRODID:-//ChamberMaster//Event Calendar 2.0//EN
METHOD:PUBLISH
X-PUBLISHED-TTL:P3D
REFRESH-INTERVAL:P3D
CALSCALE:GREGORIAN
BEGIN:VEVENT
DTSTART:20190502T233000Z
DTEND:20190503T010000Z
X-MICROSOFT-CDO-ALLDAYEVENT:FALSE
SUMMARY:Business After Hours: Bianchini's North
DESCRIPTION:Now Petaluma Owned and Operated\n\nRyan & Rick O'Rourke\n\n1ST YEAR ANNIVERSARY CELEBRATION\n\nMay 2nd 2019 from 4:30-6 pm\n\n \n\nCome by and say HI\n\nWine\, Food\, Raffles
X-ALT-DESC;FMTTYPE=text/html:<span style="font-size:18.0pt\;">Now Petaluma Owned and Operated</span><br />\n<span style="font-size:18.0pt\;">Ryan &amp\; Rick O&rsquo\;Rourke</span><br />\n<span style="font-size:18.0pt\;">1<sup>ST</sup> YEAR ANNIVERSARY CELEBRATION</span><br />\n<span style="font-size:18.0pt\;">May 2<sup>nd</sup> 2019 from 4:30-6 pm</span><br />\n&nbsp\;<br />\n<span style="font-size:18.0pt\;">Come by and say HI</span><br />\n<span style="font-size:18.0pt\;">Wine\, Food\, Raffles</span>
LOCATION:1367 North McDowell Blvd 707-776 4570 Fax 707-776-4581
UID:e.1308.13351
SEQUENCE:3
DTSTAMP:20260419T225940Z
URL:https://business.petalumachamber.biz/events/details/business-after-hours-bianchini-s-north-13351
END:VEVENT

END:VCALENDAR
