BEGIN:VCALENDAR
VERSION:2.0
PRODID:-//ChamberMaster//Event Calendar 2.0//EN
METHOD:PUBLISH
X-PUBLISHED-TTL:P3D
REFRESH-INTERVAL:P3D
CALSCALE:GREGORIAN
BEGIN:VEVENT
DTSTART:20190919T233000Z
DTEND:20190920T013000Z
X-MICROSOFT-CDO-ALLDAYEVENT:FALSE
SUMMARY:Business After Hours: Breen Wealth Management
DESCRIPTION:Join us at Breen Wealth Management as they celebrate a "Decade of Independence" on Thursday\, September 19th. 4:30-6:30p.\n\nRefreshments and beverages will be served.
X-ALT-DESC;FMTTYPE=text/html:Join us at Breen Wealth Management as they celebrate a &quot\;Decade of Independence&quot\; on Thursday\, September 19th. 4:30-6:30p.<br />\nRefreshments and beverages will be served.
LOCATION:200 Kentucky St 2nd floor Suite C
UID:e.1308.13792
SEQUENCE:3
DTSTAMP:20260420T060656Z
URL:https://business.petalumachamber.biz/events/details/business-after-hours-breen-wealth-management-13792
END:VEVENT

END:VCALENDAR
