BEGIN:VCALENDAR
VERSION:2.0
PRODID:-//ChamberMaster//Event Calendar 2.0//EN
METHOD:PUBLISH
X-PUBLISHED-TTL:P3D
REFRESH-INTERVAL:P3D
CALSCALE:GREGORIAN
BEGIN:VEVENT
DTSTART:20190725T233000Z
DTEND:20190726T013000Z
X-MICROSOFT-CDO-ALLDAYEVENT:FALSE
SUMMARY:Business After Hours: COTS
DESCRIPTION:Business in the Ballroom: please join COTS between 4:30 and 6:30 on Thursday\, July 25 at the Hotel Petaluma Ballroom\, 205 Kentucky Street for a Business After-Hours Event. We'll celebrate the steadfast commitment our business community has shown to COTS and ending homelessness. Catering is by Anna B's kitchen\; beer and wine from the county's finest makers\; and live music from Side Dish. For more information\, please call Eileen Morris at 765-6530 x 128. Many thanks to the Hotel Petaluma for providing the beautiful venue.
X-ALT-DESC;FMTTYPE=text/html:<strong>Business in the Ballroom</strong>: please join COTS between 4:30 and 6:30 on Thursday\, July 25 at the Hotel Petaluma Ballroom\, 205 Kentucky Street for a Business After-Hours Event. We&rsquo\;ll celebrate the steadfast commitment our business community has shown to COTS and ending homelessness. Catering is by Anna B&rsquo\;s kitchen\; beer and wine from the county&rsquo\;s finest makers\; and live music from Side Dish. For more information\, please call Eileen Morris at 765-6530 x 128. Many thanks to the Hotel Petaluma for providing the beautiful venue.
LOCATION:Hotel Petaluma Ballroom 205 Kentucky St
UID:e.1308.12959
SEQUENCE:3
DTSTAMP:20260420T023222Z
URL:https://business.petalumachamber.biz/events/details/business-after-hours-cots-12959
END:VEVENT

END:VCALENDAR
