BEGIN:VCALENDAR
VERSION:2.0
PRODID:-//ChamberMaster//Event Calendar 2.0//EN
METHOD:PUBLISH
X-PUBLISHED-TTL:P3D
REFRESH-INTERVAL:P3D
CALSCALE:GREGORIAN
BEGIN:VEVENT
DTSTART:20190905T233000Z
DTEND:20190906T013000Z
X-MICROSOFT-CDO-ALLDAYEVENT:FALSE
SUMMARY:Business After Hours: Cricket Wireless
DESCRIPTION:Come join us in celebrating the grand re-opening of Cricket Wireless with a ribbon cutting ceremony!
X-ALT-DESC;FMTTYPE=text/html:Come join us in celebrating the grand re-opening of Cricket Wireless with a ribbon cutting ceremony!
LOCATION:12 East Washington St
UID:e.1308.13793
SEQUENCE:3
DTSTAMP:20260420T060752Z
URL:https://business.petalumachamber.biz/events/details/business-after-hours-cricket-wireless-13793
END:VEVENT

END:VCALENDAR
